BEGIN:VCALENDAR
VERSION:2.0
PRODID:-//Napovednik dogodkov - dogodki, prireditve - ECPv6.15.13.1//NONSGML v1.0//EN
CALSCALE:GREGORIAN
METHOD:PUBLISH
X-WR-CALNAME:Napovednik dogodkov - dogodki, prireditve
X-ORIGINAL-URL:https://www.napovednikdogodkov.si
X-WR-CALDESC:Dogodki za Napovednik dogodkov - dogodki, prireditve
REFRESH-INTERVAL;VALUE=DURATION:PT1H
X-Robots-Tag:noindex
X-PUBLISHED-TTL:PT1H
BEGIN:VTIMEZONE
TZID:Europe/Ljubljana
BEGIN:DAYLIGHT
TZOFFSETFROM:+0100
TZOFFSETTO:+0200
TZNAME:CEST
DTSTART:20250330T010000
END:DAYLIGHT
BEGIN:STANDARD
TZOFFSETFROM:+0200
TZOFFSETTO:+0100
TZNAME:CET
DTSTART:20251026T010000
END:STANDARD
BEGIN:DAYLIGHT
TZOFFSETFROM:+0100
TZOFFSETTO:+0200
TZNAME:CEST
DTSTART:20260329T010000
END:DAYLIGHT
BEGIN:STANDARD
TZOFFSETFROM:+0200
TZOFFSETTO:+0100
TZNAME:CET
DTSTART:20261025T010000
END:STANDARD
BEGIN:DAYLIGHT
TZOFFSETFROM:+0100
TZOFFSETTO:+0200
TZNAME:CEST
DTSTART:20270328T010000
END:DAYLIGHT
BEGIN:STANDARD
TZOFFSETFROM:+0200
TZOFFSETTO:+0100
TZNAME:CET
DTSTART:20271031T010000
END:STANDARD
END:VTIMEZONE
BEGIN:VEVENT
DTSTART;TZID=Europe/Ljubljana:20260523T100000
DTEND;TZID=Europe/Ljubljana:20260523T170000
DTSTAMP:20260425T171157
CREATED:20260424T205837Z
LAST-MODIFIED:20260424T205837Z
UID:10003004-1779530400-1779555600@www.napovednikdogodkov.si
SUMMARY:International Festival of Diplomacy and Fellowship
DESCRIPTION:Join us for a unique celebration of culture\, connection\, and international friendship! \nThe Festival of Nations & Diplomacy brings together representatives from around the world to showcase the richness of their cultures through traditional food\, music\, performances\, and interactive experiences. Each country will present its heritage in a vibrant and engaging way\, offering visitors the chance to “travel the world” in just one day. \n✨ What to expect: • Cultural stands from 25+ countries • Traditional food and drinks • Live performances and music • National costumes and exhibitions • A warm\, welcoming international atmosphere This festival is more than just an event—it is a celebration of diversity\, mutual understanding\, and diplomacy through culture. It creates a space where people can meet\, learn\, and connect across borders. Bring your friends\, family\, and curiosity\, and experience the beauty of the world in one place! \nWe look forward to welcoming you! 🌏 \n  \nDatum dogodka – Začetek:* 23.05.2026.\nDatum dogodka – Konec:* 23.05.2026.\nČas dogodka – Začetek (podaj uro):* 10:00\nČas dogodka – Konec (podaj uro):* 17:00\nČe je ponavljajoči se dogodek: Yearly \n  \nPrizorišče dogodka:* Stritarjeva Ulica\, Ljubljana\nNaslov prizorišča (Ulica in hišna številka):* Stritarjeva Ulica\, Ljubljana\nPoštna številka\, mesto oz. kraj Prizorišča:* 1000\nObčina:* Ljubljana\nDržava Prizorišča:*\nTelefon Prizorišča: 070747918\nSpletna stran Prizorišča: \n  \nOrganizator dogodka:* Rotary Club Ljubljana International\nTelefon – Organizator: 070747918\nSpletna stran – Organizator:\nEmail – Organizator:* alinda.tamas@altmengroup.com \nSpletna stran – Dogodka:\nStroški Dogodka:* Free \n 
URL:https://www.napovednikdogodkov.si/dogodek/international-festival-of-diplomacy-and-fellowship/
LOCATION:Stritarjeva Ulica\, Ljubljana\, Stritarjeva Ulica\, Ljubljana\, 1000\, Slovenia
CATEGORIES:Prireditve
ATTACH;FMTTYPE=image/jpeg:https://www.napovednikdogodkov.si/wp-content/uploads/2026/04/23.5.2026-International-Festival-of-Diplomacy-and-Fellowship-napovednik-dogodki-prireditve-n.jpg
END:VEVENT
END:VCALENDAR