BEGIN:VCALENDAR
VERSION:2.0
PRODID:-//Napovednik dogodkov - dogodki, prireditve - ECPv6.15.13.1//NONSGML v1.0//EN
CALSCALE:GREGORIAN
METHOD:PUBLISH
X-ORIGINAL-URL:https://www.napovednikdogodkov.si
X-WR-CALDESC:Dogodki za Napovednik dogodkov - dogodki, prireditve
REFRESH-INTERVAL;VALUE=DURATION:PT1H
X-Robots-Tag:noindex
X-PUBLISHED-TTL:PT1H
BEGIN:VTIMEZONE
TZID:Europe/Ljubljana
BEGIN:DAYLIGHT
TZOFFSETFROM:+0100
TZOFFSETTO:+0200
TZNAME:CEST
DTSTART:20240331T010000
END:DAYLIGHT
BEGIN:STANDARD
TZOFFSETFROM:+0200
TZOFFSETTO:+0100
TZNAME:CET
DTSTART:20241027T010000
END:STANDARD
BEGIN:DAYLIGHT
TZOFFSETFROM:+0100
TZOFFSETTO:+0200
TZNAME:CEST
DTSTART:20250330T010000
END:DAYLIGHT
BEGIN:STANDARD
TZOFFSETFROM:+0200
TZOFFSETTO:+0100
TZNAME:CET
DTSTART:20251026T010000
END:STANDARD
BEGIN:DAYLIGHT
TZOFFSETFROM:+0100
TZOFFSETTO:+0200
TZNAME:CEST
DTSTART:20260329T010000
END:DAYLIGHT
BEGIN:STANDARD
TZOFFSETFROM:+0200
TZOFFSETTO:+0100
TZNAME:CET
DTSTART:20261025T010000
END:STANDARD
BEGIN:DAYLIGHT
TZOFFSETFROM:+0100
TZOFFSETTO:+0200
TZNAME:CEST
DTSTART:20270328T010000
END:DAYLIGHT
BEGIN:STANDARD
TZOFFSETFROM:+0200
TZOFFSETTO:+0100
TZNAME:CET
DTSTART:20271031T010000
END:STANDARD
END:VTIMEZONE
BEGIN:VEVENT
DTSTART;TZID=Europe/Ljubljana:20260227T190000
DTEND;TZID=Europe/Ljubljana:20260227T200000
DTSTAMP:20260425T174852
CREATED:20260220T103240Z
LAST-MODIFIED:20260220T103240Z
UID:10002826-1772218800-1772222400@www.napovednikdogodkov.si
SUMMARY:Koncert učiteljev Glasbene šole Škofja Loka
DESCRIPTION:Vljudno vabljeni na Koncert učiteljev Glasbene šole Škofja Loka. Učitelji bodo nastopili v različnih glasbenih sestavih\, od solističnih do ansambelskih z raznolikim glasbenim programom. Vstop je prost. \n  \nDatum dogodka – Začetek:* 27. 2. 2026\nDatum dogodka – Konec:* 27. 2. 2026\nČas dogodka – Začetek (podaj uro):* 19.00\nČas dogodka – Konec (podaj uro):* 20.00\nČe je ponavljajoči se dogodek: \n  \nPrizorišče dogodka:* Sokolski dom Škofja Loka\nNaslov prizorišča (Ulica in hišna številka):* Mestni trg 17\nPoštna številka\, mesto oz. kraj Prizorišča:* 4220\nObčina:* Škofja Loka\nDržava Prizorišča:*\nTelefon Prizorišča:\nSpletna stran Prizorišča: https://www.sokolskidom.si/ \n  \nOrganizator dogodka:* Glasbena šola Škofja Loka\nTelefon – Organizator:\nSpletna stran – Organizator:\nEmail – Organizator:* info@sokolskidom.si \nSpletna stran – Dogodka: https://www.sokolskidom.si/objava/1232136\nStroški Dogodka:* Prost vstop \n 
URL:https://www.napovednikdogodkov.si/dogodek/koncert-uciteljev-glasbene-sole-skofja-loka/
LOCATION:Sokolski dom Škofja Loka\, Mestni trg 17\, ŠKOFJA LOKA\, 4220\, Slovenia
CATEGORIES:Glasba,Prireditve
ATTACH;FMTTYPE=image/jpeg:https://www.napovednikdogodkov.si/wp-content/uploads/2026/02/27.2.2026-Koncert-uciteljev-Glasbene-sole-Skofja-Loka-naspovednik-prireditev-n.jpg
END:VEVENT
BEGIN:VEVENT
DTSTART;TZID=Europe/Ljubljana:20260226T180000
DTEND;TZID=Europe/Ljubljana:20260226T190000
DTSTAMP:20260425T174852
CREATED:20260220T102602Z
LAST-MODIFIED:20260220T102713Z
UID:10002825-1772128800-1772132400@www.napovednikdogodkov.si
SUMMARY:Odprtje razstave Tekstilne skupnosti Breja preja: Ženske\, ki nas navdihujejo
DESCRIPTION:Odprtje razstave Tekstilne skupnosti Breja preja: Ženske\, ki nas navdihujejo \nVabljeni na odprtje razstave Ženske\, ki nas navdihujejo\, ki jo je pripravila Tekstilna skupnost Breja preja. Odprtje razstave bo v četrtek\, 26. 2. 2026\, ob 18. uri v Sokolskem domu Škofja Loka. Na razstavi bodo predstavili najnovejša dela skupnostne angažirane tekstilne umetnosti\, ki so nastala v zadnjih letih v okviru delovanja zavoda. \n  \nDatum dogodka – Začetek:* 26. 2. 2026\nDatum dogodka – Konec:* 26. 2. 2026\nČas dogodka – Začetek (podaj uro):* 18.00\nČas dogodka – Konec (podaj uro):* 19.00\nČe je ponavljajoči se dogodek: \n  \nPrizorišče dogodka:* Sokolski dom Škofja Loka\nNaslov prizorišča (Ulica in hišna številka):* Mestni trg 17\nPoštna številka\, mesto oz. kraj Prizorišča:* 4220\nObčina:* Škofja Loka\nDržava Prizorišča:*\nTelefon Prizorišča:\nSpletna stran Prizorišča: \n  \nOrganizator dogodka:* Zavod 973\nTelefon – Organizator:\nSpletna stran – Organizator: https://www.sokolskidom.si/\nEmail – Organizator:* info@sokolskidom.si \nSpletna stran – Dogodka: https://www.sokolskidom.si/objava/1225746\nStroški Dogodka:* Prost vstop
URL:https://www.napovednikdogodkov.si/dogodek/odprtje-razstave-tekstilne-skupnosti-breja-preja-zenske-ki-nas-navdihujejo/
LOCATION:Sokolski dom Škofja Loka\, Mestni trg 17\, ŠKOFJA LOKA\, 4220\, Slovenia
CATEGORIES:Prireditve,Razstave
ATTACH;FMTTYPE=image/jpeg:https://www.napovednikdogodkov.si/wp-content/uploads/2026/02/26.2.2026-Razstava-Tekstilne-skupnosti-Breja-preja-Zenske-ki-nas-navdihujejo-napovednik-dogodki-n.jpg
END:VEVENT
BEGIN:VEVENT
DTSTART;VALUE=DATE:20260226
DTEND;VALUE=DATE:20260316
DTSTAMP:20260425T174852
CREATED:20260218T230852Z
LAST-MODIFIED:20260218T230852Z
UID:10002823-1772064000-1773619199@www.napovednikdogodkov.si
SUMMARY:Razstava Tekstilne skupnosti Breja preja: Ženske\, ki nas navdihujejo
DESCRIPTION:K razstavljanju v Sokolskem domu Škofja Loka smo povabili Zavod Tri\, zavod za trajnostne skupnostne prakse\, ki se vsebinsko osredotoča na opolnomočenje žensk in razvijanje sodelovalnih procesov v skupnosti. V sklopu Zavoda Tri deluje tudi tekstilna skupnost Breja preja. Le-ta se bo predstavila z razstavo Ženske\, ki nas navdihujejo\, na kateri bodo predstavili najnovejša dela skupnostne angažirane tekstilne umetnosti\, ki so nastala v zadnjih letih v okviru delovanja nevladne organizacije. \nRazstava bo na ogled do 15. 3. 2026 v delovnem času Sokolskega doma Škofja Loka: · torek–petek: 10.00–12.00 in 17.00–19.00 · sobota: 9.30–12.30\, · nedelja: 9.30–12.30 in 17.00–19.00. Ob ponedeljkih in praznikih je Sokolski dom zaprt. \n  \nDatum dogodka – Začetek:* 26. 2. 2026\nDatum dogodka – Konec:* 15. 3. 2026\nČas dogodka – Začetek (podaj uro):* po urniku\nČas dogodka – Konec (podaj uro):* po urniku\nČe je ponavljajoči se dogodek: \n  \nPrizorišče dogodka:* Sokolski dom Škofja Loka\nNaslov prizorišča (Ulica in hišna številka):* Mestni trg 17\nPoštna številka\, mesto oz. kraj Prizorišča:* 4220\nObčina:* Škofja Loka\nDržava Prizorišča:*\nTelefon Prizorišča:\nSpletna stran Prizorišča: https://www.sokolskidom.si/ \n  \nOrganizator dogodka:* Zavod 973\nTelefon – Organizator:\nSpletna stran – Organizator: \nSpletna stran – Dogodka: https://www.sokolskidom.si/objava/1225747\nStroški Dogodka:* Prost vstop \n  \n26.2.2026 Razstava Tekstilne skupnosti Breja preja Ženske\, ki nas navdihujejo-napovednik-dogodki
URL:https://www.napovednikdogodkov.si/dogodek/razstava-tekstilne-skupnosti-breja-preja-zenske-ki-nas-navdihujejo/
LOCATION:Sokolski dom Škofja Loka\, Mestni trg 17\, ŠKOFJA LOKA\, 4220\, Slovenia
CATEGORIES:Daljši dogodki,Razstave
ATTACH;FMTTYPE=image/jpeg:https://www.napovednikdogodkov.si/wp-content/uploads/2026/02/26.2.2026-Razstava-Tekstilne-skupnosti-Breja-preja-Zenske-ki-nas-navdihujejo-napovednik-dogodki-n.jpg
END:VEVENT
BEGIN:VEVENT
DTSTART;TZID=Europe/Ljubljana:20260221T100000
DTEND;TZID=Europe/Ljubljana:20260221T110000
DTSTAMP:20260425T174852
CREATED:20260206T085514Z
LAST-MODIFIED:20260206T085514Z
UID:10002782-1771668000-1771671600@www.napovednikdogodkov.si
SUMMARY:Pravljica v galeriji | Po poteh ljudskih pravljic in pesmi
DESCRIPTION:Vabljeni na Pravljico v galeriji\, na kateri se nam tokrat pridružuje Luka Ovsec! Sledi tudi likovna delavnica v družbi Anje Fabiani. S tamburico v rokah in lesenim vozom pod nogami\, Luka Ovsec je potujoči ljudski godec s polno bisago pravljic in pesmi. Izvira iz krajev pod Snežnikom\, kjer so mu predniki izročilo položili že v zibko\, on pa ga sedaj predaja vsem ljudem\, ki so pripravljeni malce postati in prisluhniti. Tako\, kot se je Snežniška Bukev širila severno\, prav tako je naš furman sledil njenemu toku in se ustalil na skrajnem severu Notranjske\, na prepihu in križišču sveta\, v tisti dolgi furmanski vasi\, sedaj mestu Logatec\, tik preden vode z Notranjske dobijo ime Ljubljanica. Od tu potuje v vse smeri in obišče prav vsako vas. Cena posamezne vstopnice: 5 € \nDatum dogodka – Začetek:* 21.2.2026\nDatum dogodka – Konec:* 21.2.2026\nČas dogodka – Začetek (podaj uro):* 10.00\nČas dogodka – Konec (podaj uro):* 11.00\nČe je ponavljajoči se dogodek: \n  \nPrizorišče dogodka:* Sokolski dom Škofja Loka\nNaslov prizorišča (Ulica in hišna številka):* Mestni trg 17\nPoštna številka\, mesto oz. kraj Prizorišča:* 4220\nObčina:* Škofja Loka\nDržava Prizorišča:*\nTelefon Prizorišča: 045112335\nSpletna stran Prizorišča: https://www.sokolskidom.si/ \n  \nOrganizator dogodka:* Zavod 973\nTelefon – Organizator:\nSpletna stran – Organizator:\nEmail – Organizator:* info@sokolskidom.si \nSpletna stran – Dogodka: https://www.sokolskidom.si/objava/1145842\nStroški Dogodka:* 5\,00 €
URL:https://www.napovednikdogodkov.si/dogodek/pravljica-v-galeriji-po-poteh-ljudskih-pravljic-in-pesmi/
LOCATION:Sokolski dom Škofja Loka\, Mestni trg 17\, ŠKOFJA LOKA\, 4220\, Slovenia
CATEGORIES:Gledališče
ATTACH;FMTTYPE=image/jpeg:https://www.napovednikdogodkov.si/wp-content/uploads/2026/02/21.2.2026-Pravljica-v-galeriji-Po-poteh-ljudskih-pravljic-in-pesmi-napovednik-dogodki.jpg
ORGANIZER;CN="Sokolski dom %C5%A0kofja Loka in Zavod 973":MAILTO:info@sokolskidom.si
END:VEVENT
BEGIN:VEVENT
DTSTART;TZID=Europe/Ljubljana:20260218T193000
DTEND;TZID=Europe/Ljubljana:20260218T210000
DTSTAMP:20260425T174852
CREATED:20260207T221330Z
LAST-MODIFIED:20260207T221354Z
UID:10002785-1771443000-1771448400@www.napovednikdogodkov.si
SUMMARY:Kristalni abonma | 100 let APZ Tone Tomšič
DESCRIPTION:19:00 pogovor z glasbeniki 19:30 koncert Akademski pevski zbor Tone Tomšič Rahela Durič\, dirigentka PROGRAM: Dobra zgodba nas vedno prevzame\, nagovori\, začara ali nas spodbudi k razmisleku. Z izbranimi skladbami priznanih slovenskih (Lojze Lebič\, Tine Bec\, Katarina Pustinek Rakar\, Anton Lajovic) in tujih (Johannes Brahms\, Robert Lucas Pearsall idr.) skladateljev vas bomo popeljali v svet pripovedi\, bajk in povesti – tistih\, ki so jih nekoč zaupno šepetale naše babice in ki jih bomo mi nekoč pripovedovali svojim vnukom. Pridružite se APZ Tone Tomšič na poti skozi stoletno tradicijo\, v kateri bo glasba postala pripovedovalka najlepših zgodb. Pustite se začarati. Akademski pevski zbor Tone Tomšič v letu 2026 obeležuje stoletnico svojega obstoja. V jubilejnem letu zbor načrtuje številne projekte – med drugimi tudi koncertno turnejo –\, s katerimi bo počastil njegov bogati prispevek slovenski glasbeni in kulturni dediščini. Člani zbora bodo nastopali na številnih koncertnih večerih po vsej Sloveniji\, kjer bodo z glasbo in besedo oživljali zgodbe iz velike slovenske in svetovne zakladnice. Akademski pevski zbor Tone Tomšič Univerze v Ljubljani združuje študentke in študente fakultet Univerze v Ljubljani\, ki sta jim skupni velika ljubezen do petja in želja po vrhunskem umetniškem ustvarjanju. Že od svoje ustanovitve leta 1926 se uvršča med najpomembnejše usmerjevalce slovenskega zborovskega petja. Repertoar zbora sestavljajo skladbe vseh glasbenozgodovinskih slogovnih obdobij\, s posebnim poudarkom na sodobni zborovski literaturi. Zbor koncertira v Sloveniji in tujini in svojo kakovost potrjuje z odmevnimi nastopi na številnih tekmovanjih. Največja mednarodna uspeha APZ sta osvojeni prvi nagradi na tekmovanju za veliko nagrado Evrope leta 2002 v Arezzu pod vodstvom Stojana Kureta in leta 2008 v Debrecenu pod vodstvom Urše Lah. Zbor je uspešno nastopal tudi v zadnjih letih ter si prislužil nagrade in posebna priznanja na tekmovanjih v Riminiju\, Vicu\, Gorici\, Mariboru in Varni. Od oktobra 2021 ga vodi Rahela Durič\, s katero je sestav na 27. slovenskem zborovskem tekmovanju Naša pesem 2022 že osvojil zlato plaketo. Med odmevnejšimi dosežki iz prejšnje sezone so: doseženo absolutno prvo mesto na 28. slovenskem zborovskem tekmovanju Naša pesem 2024 in posebna nagrada za izvedbo Gallusove skladbe Tu ne cede malis ter posebni nagradi za najboljšo izvedbo obvezne skladbe in za najboljšo odrsko prezenco na 42. Mednarodnem zborovskem tekmovanju prof. Georgija Dimitrova v Varni. Rahela Durič je svojo glasbeno pot začela kot violinistka in glasbeno kariero nadaljevala v Gradcu. Leta 2011 je diplomirala iz orkestrskega dirigiranja in leta 2013 z odliko magistrirala iz zborovskega dirigiranja. Od oktobra 2016 kot pomožna profesorica za zborovsko dirigiranje deluje na Univerzi za glasbo in upodabljajočo umetnost v Gradcu v razredu profesorja Johannesa Prinza. Leta 2015 je na mednarodnem tekmovanju za mlade dirigente v Torinu prejela nagrado za obetavnega mladega dirigenta in štipendijo sklada Noël Minet. V Avstriji je bila januarja 2016 izbrana za talent meseca na priznanem kulturnem Radiu Ö1. Za svoje delo je prejela tudi štipendijo mesta Gradec za nadarjene študente. Leta 2016 je pomagala ustanoviti projekt meet4music\, ki je poskus integracije pribežnikov in ljudi s posebnimi potrebami s pomočjo glasbe. V okviru tega projekta je do junija 2018 vodila mesečna srečanja open singing na Univerzi za glasbo in upodabljajočo umetnost v Gradcu. Med letoma 2014 in 2019 je dejavno sodelovala v projektu SUPERAR\, ki je namenjen otrokom iz socialno šibkejših družin\, predvsem v osnovnih šolah z velikim deležem migrantov. Marca 2019 je na mednarodnem tekmovanju za zborovske dirigente v Kopru Aegis Carminis osvojila prvo nagrado\, nagrado občinstva in nagrado zbora za najboljšega dirigenta. Cena vstopnice za posamezni koncert v Sokolskem domu Škofja Loka je 16 €. Skupinska vstopnica (vsaj 10 oseb) za posamezni koncert je 12 € na osebo. Foto: Janez Kotar \n  \nDatum dogodka – Začetek:* 18.2.2026\nDatum dogodka – Konec:* 18.2.2026\nČas dogodka – Začetek (podaj uro):* 19.30\nČas dogodka – Konec (podaj uro):* 21.00\nČe je ponavljajoči se dogodek: \n  \nPrizorišče dogodka:* Sokolski dom Škofja Loka\nNaslov prizorišča (Ulica in hišna številka):* Mestni trg 17\nPoštna številka\, mesto oz. kraj Prizorišča:* 4220\nObčina:* Škofja Loka\nDržava Prizorišča:*\nTelefon Prizorišča: 045112335\nSpletna stran Prizorišča: https://www.sokolskidom.si/ \n  \nOrganizator dogodka:* Zavod 973\nTelefon – Organizator:\nSpletna stran – Organizator: https://www.sokolskidom.si/\nEmail – Organizator:* info@sokolskidom.si \nSpletna stran – Dogodka: https://www.sokolskidom.si/objava/1143621\nStroški Dogodka:* 16\,00 €
URL:https://www.napovednikdogodkov.si/dogodek/kristalni-abonma-100-let-apz-tone-tomsic/
LOCATION:Sokolski dom Škofja Loka\, Mestni trg 17\, ŠKOFJA LOKA\, 4220\, Slovenia
CATEGORIES:Glasba,Prireditve
ATTACH;FMTTYPE=image/jpeg:https://www.napovednikdogodkov.si/wp-content/uploads/2026/02/18.2.2026-Kristalni-abonma-100-let-APZ-Tone-Tomsic-napovednik-dogodkdi.jpg
END:VEVENT
BEGIN:VEVENT
DTSTART;TZID=Europe/Ljubljana:20260207T100000
DTEND;TZID=Europe/Ljubljana:20260207T110000
DTSTAMP:20260425T174852
CREATED:20260202T213213Z
LAST-MODIFIED:20260202T213412Z
UID:10002774-1770458400-1770462000@www.napovednikdogodkov.si
SUMMARY:Otroški abonma | Peter Pan
DESCRIPTION:Otroški abonma | Peter Pan\nGlavno besedilo dogodka:* Glasbena pravljica Peter Pan je čarobni deček\, ki noče nikoli odrasti. Živi v skrivnostni deželi Nije\, kjer prebivajo izgubljeni fantje\, vile\, sirene\, Indijanci in nevarni pirati. Nekega večera Peter Pan poleti skozi okno v sobo treh otrok – Wendy\, Johna in Michaela Darling – v Londonu. Skupaj z vilo Zvončico jih odpelje v deželo Nije\, kjer se podajo v nepozabne pustolovščine. Wendy postane kot mama izgubljenim fantom in jim pripoveduje zgodbe. Otroci pa skupaj pomagajo rešiti indijansko princeso Tigrasto Lilijo\, se izognejo piratom in se zoperstavijo zlobnemu kapitanu Kljuki. Na koncu Peter premaga Kljuko\, Wendy\, John in Michael pa se po dogodivščini odločijo\, da se vrnejo domov\, del svojih src pa pustijo v deželi Nije. Peter Pan ostane tam – večno mlad\, svoboden in vedno pripravljen na novo pustolovščino. Nastopajo: udeleženci dramskega krožka Društva Glasba-Drama Režija: Nadja Strajnar Zadnik in Vid Zadnik Glasba: Vid Zadnik Produkcija: Društvo Glasba-Drama \n  \nDatum dogodka – Začetek:* 7.2.2026\nDatum dogodka – Konec:* 7.2.2026\nČas dogodka – Začetek (podaj uro):* 10.00\nČas dogodka – Konec (podaj uro):* 11.00\nČe je ponavljajoči se dogodek: \n  \nPrizorišče dogodka:* Sokolski dom Škofja Loka\nNaslov prizorišča (Ulica in hišna številka):* Mestni trg 17\nPoštna številka\, mesto oz. kraj Prizorišča:* 4220\nObčina:* Škofja Loka\nDržava Prizorišča:*\nTelefon Prizorišča: 045112335\nSpletna stran Prizorišča: https://www.sokolskidom.si/ \n  \nOrganizator dogodka:* Zavod 973\nTelefon – Organizator:\nSpletna stran – Organizator:\nEmail – Organizator:* info@sokolskidom.si \nSpletna stran – Dogodka: https://www.sokolskidom.si/objava/1141802\nStroški Dogodka:* 6\,00 € \n 
URL:https://www.napovednikdogodkov.si/dogodek/26305/
LOCATION:Sokolski dom Škofja Loka\, Mestni trg 17\, ŠKOFJA LOKA\, 4220\, Slovenia
CATEGORIES:Gledališče,Za otroke
ATTACH;FMTTYPE=image/jpeg:https://www.napovednikdogodkov.si/wp-content/uploads/2026/02/7.2.2026-Otroski-abonma-Peter-Pan-NAPOVEDNIK-DOGODKI-N.jpg
END:VEVENT
BEGIN:VEVENT
DTSTART;VALUE=DATE:20260128
DTEND;VALUE=DATE:20260223
DTSTAMP:20260425T174852
CREATED:20260128T072247Z
LAST-MODIFIED:20260128T072414Z
UID:10002762-1769558400-1771804799@www.napovednikdogodkov.si
SUMMARY:JSKD Območna likovna razstava 2026 - OTVORITEV
DESCRIPTION:Srečanje likovnih ustvarjalcev občin Železniki\, Škofja Loka\, Gorenja vas – Poljane in Žiri. Razstava bo na ogled do 22. 2. 2026 v delovnem času Sokolskega doma Škofja Loka: – torek–petek: 10.00–12.00 in 17.00–19.00\, – sobota: 9.30–12.30\, – nedelja: 9.30–12.30 in 17.00–19.00. Ob ponedeljkih in praznikih je Sokolski dom zaprt. \n  \nDatum dogodka – Začetek:* 28.1.2026\nDatum dogodka – Konec:* 22.2.2026\nČas dogodka – Začetek (podaj uro):* po urniku\nČas dogodka – Konec (podaj uro):* po urniku\nČe je ponavljajoči se dogodek: \n  \nPrizorišče dogodka:* Sokolski dom Škofja Loka\nNaslov prizorišča (Ulica in hišna številka):* Mestni trg 17\nPoštna številka\, mesto oz. kraj Prizorišča:* 4220\nObčina:* Škofja Loka\nDržava Prizorišča:*\nTelefon Prizorišča:\nSpletna stran Prizorišča: https://www.sokolskidom.si/ \n  \nOrganizator dogodka:* JSKD OI Škofja Loka\nTelefon – Organizator:\nSpletna stran – Organizator: \nSpletna stran – Dogodka: https://www.sokolskidom.si/objava/1210221\nStroški Dogodka:* Prost vstop \n  \ndav
URL:https://www.napovednikdogodkov.si/dogodek/jskd-obmocna-likovna-razstava-2026-otvoritev/
LOCATION:Sokolski dom Škofja Loka\, Mestni trg 17\, ŠKOFJA LOKA\, 4220\, Slovenia
CATEGORIES:Razstave
ATTACH;FMTTYPE=image/jpeg:https://www.napovednikdogodkov.si/wp-content/uploads/2026/01/28.1.2026-JSKD-Obmocna-likovna-razstava-2026-dogodki-n.jpg
END:VEVENT
BEGIN:VEVENT
DTSTART;VALUE=DATE:20260128
DTEND;VALUE=DATE:20260129
DTSTAMP:20260425T174852
CREATED:20260128T072434Z
LAST-MODIFIED:20260128T072434Z
UID:10002763-1769558400-1769644799@www.napovednikdogodkov.si
SUMMARY:JSKD Območna likovna razstava 2026
DESCRIPTION:Srečanje likovnih ustvarjalcev občin Železniki\, Škofja Loka\, Gorenja vas – Poljane in Žiri. Razstava bo na ogled do 22. 2. 2026 v delovnem času Sokolskega doma Škofja Loka: – torek–petek: 10.00–12.00 in 17.00–19.00\, – sobota: 9.30–12.30\, – nedelja: 9.30–12.30 in 17.00–19.00. Ob ponedeljkih in praznikih je Sokolski dom zaprt. \n  \nDatum dogodka – Začetek:* 28.1.2026\nDatum dogodka – Konec:* 22.2.2026\nČas dogodka – Začetek (podaj uro):* po urniku\nČas dogodka – Konec (podaj uro):* po urniku\nČe je ponavljajoči se dogodek: \n  \nPrizorišče dogodka:* Sokolski dom Škofja Loka\nNaslov prizorišča (Ulica in hišna številka):* Mestni trg 17\nPoštna številka\, mesto oz. kraj Prizorišča:* 4220\nObčina:* Škofja Loka\nDržava Prizorišča:*\nTelefon Prizorišča:\nSpletna stran Prizorišča: https://www.sokolskidom.si/ \n  \nOrganizator dogodka:* JSKD OI Škofja Loka\nTelefon – Organizator:\nSpletna stran – Organizator: \nSpletna stran – Dogodka: https://www.sokolskidom.si/objava/1210221\nStroški Dogodka:* Prost vstop \n  \ndav
URL:https://www.napovednikdogodkov.si/dogodek/jskd-obmocna-likovna-razstava-2026/
LOCATION:Sokolski dom Škofja Loka\, Mestni trg 17\, ŠKOFJA LOKA\, 4220\, Slovenia
CATEGORIES:Daljši dogodki,Razstave
ATTACH;FMTTYPE=image/jpeg:https://www.napovednikdogodkov.si/wp-content/uploads/2026/01/28.1.2026-JSKD-Obmocna-likovna-razstava-2026-dogodki-n.jpg
END:VEVENT
BEGIN:VEVENT
DTSTART;VALUE=DATE:20260112
DTEND;VALUE=DATE:20260126
DTSTAMP:20260425T174852
CREATED:20260115T143819Z
LAST-MODIFIED:20260115T144818Z
UID:10002735-1768176000-1769385599@www.napovednikdogodkov.si
SUMMARY:Izložbe domišljije | Prodajna fotografska razstava
DESCRIPTION:Leto je naokoli\, škofjeloška ustvarjalno–kulturna scena pa ponovno povezuje in za individualne obiskovalce ponuja nepozabno praznično izkušnjo. Na različnih lokacijah starega mestnega jedra Škofje Loke obiščite prodajne razstave del umetnikov\, rokodelcev\, fotografov\, oblikovalcev in drugih ustvarjalcev. V Sokolskem domu Škofja Loka smo pripravili prodajno razstavo fotografij\, na kateri se predstavljajo: Peter Pokorn\, Tone Štamcar\, Robert Ronta\, Polona Mlakar\, Aleksander Čufar\, Tatjana Splichal\, Ada Trkulja in Ana Bergant. Razstava bo na ogled v Preddverju Sokolskega doma od 25. 11. 2025 do 25. 1. 2026. Sokolski dom Škofja Loka je v času razstave odprt: – torek–petek: 10.00–12.00 in 17.00–19.00 – sobota: 9.30–12.30\, – nedelja: 9.30–12.30 in 17.00–19.00. Ob ponedeljkih in praznikih je Sokolski dom zaprt. Foto: Erazem Paravinja \n  \nDatum dogodka – Začetek:* 25.11.2025\nDatum dogodka – Konec:* 25.1.2026\nČas dogodka – Začetek (podaj uro):* po urniku\nČas dogodka – Konec (podaj uro):* po urniku\nČe je ponavljajoči se dogodek: \n  \nPrizorišče dogodka:* Sokolski dom Škofja Loka\nNaslov prizorišča (Ulica in hišna številka):* Mestni trg 17\nPoštna številka\, mesto oz. kraj Prizorišča:* 4220\nObčina:* Škofja Loka\nDržava Prizorišča:*\nTelefon Prizorišča:\nSpletna stran Prizorišča: \n  \nOrganizator dogodka:* Zavod 973\nTelefon – Organizator: 045112335\nSpletna stran – Organizator: https://www.sokolskidom.si/ \nSpletna stran – Dogodka: https://www.sokolskidom.si/objava/1193548\nStroški Dogodka:* Prost vstop
URL:https://www.napovednikdogodkov.si/dogodek/izlozbe-domisljije-prodajna-fotografska-razstava/
LOCATION:Sokolski dom Škofja Loka\, Mestni trg 17\, ŠKOFJA LOKA\, 4220\, Slovenia
CATEGORIES:Daljši dogodki
ATTACH;FMTTYPE=image/jpeg:https://www.napovednikdogodkov.si/wp-content/uploads/2026/01/25.11.2025-Izlozbe-domisljije-Prodajna-fotografska-razstava-napovednik-dogodki.jpg
END:VEVENT
BEGIN:VEVENT
DTSTART;VALUE=DATE:20251210
DTEND;VALUE=DATE:20260126
DTSTAMP:20260425T174852
CREATED:20260117T223057Z
LAST-MODIFIED:20260117T223312Z
UID:10002740-1765324800-1769385599@www.napovednikdogodkov.si
SUMMARY:Razstava Ujeta svetloba štirih desetletij
DESCRIPTION:Ob jubilejni razstavi obeležujemo štirideset let ustvarjalnega delovanja Foto kluba Anton Ažbe. V tem času je klub povezal generacije ljubiteljev fotografije\, gojil znanje\, spodbujal radovednost ter odpiral prostor za umetniški izraz v lokalnem in širšem okolju. Razstava prinaša izbor del članov kluba – od sodobnih umetniških fotografij do dokumentarno-zgodovinskih posnetkov\, ki ohranjajo spomin na čas\, ljudi in kraje. Fotografija je v tem obdobju doživela velik tehnološki in estetski razvoj: od analognih filmov do digitalnih tipal\, od temnice do računalniške obdelave. A bistvo ostaja enako – svetloba\, ujet trenutek in pogled ustvarjalca. Vsaka podoba nosi svojo zgodbo\, skupaj pa razkrivajo bogato pot\, ki jo je klub prehodil od ustanovitve do danes. Razstava je kot poklon vsem\, ki so s svojim delom\, predanostjo in vizijo oblikovali identiteto Foto kluba Anton Ažbe — ter kot povabilo k novim ustvarjalnim desetletjem. Razstava bo na ogled v Galeriji Sokolskega doma od 10.12.2025 do 25. 1. 2026. \n  \nSokolski dom Škofja Loka je v času razstave odprt: – torek–petek: 10.00–12.00 in 17.00–19.00 – sobota: 9.30–12.30\, – nedelja: 9.30–12.30 in 17.00–19.00. Ob ponedeljkih in praznikih je Sokolski dom zaprt. Foto: Hribec\, fotografiral Peter Pokorn st. \n  \nDatum dogodka – Začetek:* 10.12.2025\nDatum dogodka – Konec:* 25.1.2026\nČas dogodka – Začetek (podaj uro):* po urniku\nČas dogodka – Konec (podaj uro):* po urniku\nČe je ponavljajoči se dogodek: \n  \nPrizorišče dogodka:* Sokolski dom Škofja Loka\nNaslov prizorišča (Ulica in hišna številka):* Mestni trg 17\nPoštna številka\, mesto oz. kraj Prizorišča:* 4220\nObčina:* Škofja Loka\nDržava Prizorišča:*\nTelefon Prizorišča:\nSpletna stran Prizorišča: https://www.sokolskidom.si/ \n  \nOrganizator dogodka:* Foto klub Anton Ažbe\nTelefon – Organizator:\nSpletna stran – Organizator: \nSpletna stran – Dogodka: https://www.sokolskidom.si/objava/1194853\nStroški Dogodka:* Prost vstop
URL:https://www.napovednikdogodkov.si/dogodek/razstava-ujeta-svetloba-stirih-desetletij/
LOCATION:Sokolski dom Škofja Loka\, Mestni trg 17\, ŠKOFJA LOKA\, 4220\, Slovenia
CATEGORIES:Daljši dogodki,Razstave
ATTACH;FMTTYPE=image/jpeg:https://www.napovednikdogodkov.si/wp-content/uploads/2026/01/25.1.2026-Razstava-Ujeta-svetloba-stirih-desetletij-napovednik-dogodki.jpg
END:VEVENT
END:VCALENDAR