BEGIN:VCALENDAR
VERSION:2.0
PRODID:-//Napovednik dogodkov - dogodki, prireditve - ECPv6.15.13.1//NONSGML v1.0//EN
CALSCALE:GREGORIAN
METHOD:PUBLISH
X-ORIGINAL-URL:https://www.napovednikdogodkov.si
X-WR-CALDESC:Dogodki za Napovednik dogodkov - dogodki, prireditve
REFRESH-INTERVAL;VALUE=DURATION:PT1H
X-Robots-Tag:noindex
X-PUBLISHED-TTL:PT1H
BEGIN:VTIMEZONE
TZID:Europe/Ljubljana
BEGIN:DAYLIGHT
TZOFFSETFROM:+0100
TZOFFSETTO:+0200
TZNAME:CEST
DTSTART:20250330T010000
END:DAYLIGHT
BEGIN:STANDARD
TZOFFSETFROM:+0200
TZOFFSETTO:+0100
TZNAME:CET
DTSTART:20251026T010000
END:STANDARD
BEGIN:DAYLIGHT
TZOFFSETFROM:+0100
TZOFFSETTO:+0200
TZNAME:CEST
DTSTART:20260329T010000
END:DAYLIGHT
BEGIN:STANDARD
TZOFFSETFROM:+0200
TZOFFSETTO:+0100
TZNAME:CET
DTSTART:20261025T010000
END:STANDARD
BEGIN:DAYLIGHT
TZOFFSETFROM:+0100
TZOFFSETTO:+0200
TZNAME:CEST
DTSTART:20270328T010000
END:DAYLIGHT
BEGIN:STANDARD
TZOFFSETFROM:+0200
TZOFFSETTO:+0100
TZNAME:CET
DTSTART:20271031T010000
END:STANDARD
END:VTIMEZONE
BEGIN:VEVENT
DTSTART;TZID=Europe/Ljubljana:20260328T090000
DTEND;TZID=Europe/Ljubljana:20260328T123000
DTSTAMP:20260419T154016
CREATED:20260329T211651Z
LAST-MODIFIED:20260329T211651Z
UID:10002935-1774688400-1774701000@www.napovednikdogodkov.si
SUMMARY:VELIKONOČNA USTVARJALNA DELAVNICA ZA OTROKE
DESCRIPTION:VELIKONOČNA USTVARJALNA DELAVNICA ZA OTROKE\nGlavno besedilo dogodka:* Ali ste pripravljeni na zabavno velikonočno ustvarjalno delavnico polno smeha\, barv in ustvarjalnosti? Vabimo vaše male umetnike (od 4 let naprej)\, da se nam pridružijo na VELIKONOČNI USTVARJALNI DELAVNICI\, kjer bodo sami izdelali čudovite lesene velikonočne figure – zajčke z košarico/vrtičkom za velikonočne dobrote\, pirhe\, piščančke\, košarice in druge presenečenja! Vse te izdelke pa bodo nato odnesli domov. Kaj vse čaka vaše otroke? – Barvanje in okraševanje lesenih delčkov z živahnimi barvami – Lepjenje in sestavljanje lastnega lesenega zajčka ali drugega velikonočnega prijatelja – Veliko domišljije\, smeha in ponosa\, ko bodo rekli: »To sem naredil/a SAM/A!« – Vsi materiali so pripravljeni – samo pridite z dobrim razpoloženjem 😊Za okrepčilo med delavnico bo poskrbljeno Kdaj in kje? \n📅 28. marec 2026 🕘 9:00–10:30 ali 11:00–12:30 (izberite termin\, ki vam najbolj ustreza!) 📍 Društvo Divine Me\, Razgor 20\, 3212 Vojnik Prispevek: samo 8 € na otroka (V ceno je všteto vse: materiali\, barve\, lepilo\, navodila\, okrepčilo in animacija) Število mest je omejeno – hitro si zagotovite svoj termin! \n  \nPrijavite se tukaj: na spletni strani organizatorja https://docs.google.com/forms/d/e/1FAIpQLSeRsgF5cEJXfbulRFryxpPyTtwxkbpYE8es6f29HUopIJwl2g/viewform \n📞 041/544-292 (za dodatne informacije pokličite) Naj bo letošnja Velika noč še slajša – ker jo bodo otroci polepšali s svojimi rokami! \n  \nDatum dogodka – Začetek:* 28.3.2026\nDatum dogodka – Konec:* 28.3.2026\nČas dogodka – Začetek (podaj uro):* 9:00\nČas dogodka – Konec (podaj uro):* 12:30\nČe je ponavljajoči se dogodek: Enkrat letno \n  \nPrizorišče dogodka:* Društvo Divine ME – Razgor 20\, Vojnik\nNaslov prizorišča (Ulica in hišna številka):* Društvo Divine ME – Razgor 20\, Vojnik\nPoštna številka\, mesto oz. kraj Prizorišča:* 3212\nObčina:* Vojnik\nDržava Prizorišča:*\nTelefon Prizorišča: 041544292\nSpletna stran Prizorišča: https://divine-me.si/velikonocna-ustvarjalna-delavnica/ \n  \nOrganizator dogodka:* Društvo za vsestranski osebnostni razvoj DIVINE ME\nTelefon – Organizator: 041544292\nSpletna stran – Organizator: www.divine-me.si\nEmail – Organizator:* 4divine.me@gmail.com \nSpletna stran – Dogodka: https://divine-me.si/velikonocna-ustvarjalna-delavnica/\nStroški Dogodka:* 8€ \n 
URL:https://www.napovednikdogodkov.si/dogodek/velikonocna-ustvarjalna-delavnica-za-otroke/
LOCATION:Društvo Divine ME – Razgor 20\, Vojnik\, Razgor 20\, Vojnik\, 3212\, Slovenia
CATEGORIES:Za otroke
ATTACH;FMTTYPE=image/jpeg:https://www.napovednikdogodkov.si/wp-content/uploads/2026/03/28.3.2026-VELIKONOCNA-USTVARJALNA-DELAVNICA-ZA-OTROKE-n.jpg
END:VEVENT
END:VCALENDAR