BEGIN:VCALENDAR
VERSION:2.0
PRODID:-//Napovednik dogodkov - dogodki, prireditve - ECPv6.15.13.1//NONSGML v1.0//EN
CALSCALE:GREGORIAN
METHOD:PUBLISH
X-ORIGINAL-URL:https://www.napovednikdogodkov.si
X-WR-CALDESC:Dogodki za Napovednik dogodkov - dogodki, prireditve
REFRESH-INTERVAL;VALUE=DURATION:PT1H
X-Robots-Tag:noindex
X-PUBLISHED-TTL:PT1H
BEGIN:VTIMEZONE
TZID:Europe/Ljubljana
BEGIN:DAYLIGHT
TZOFFSETFROM:+0100
TZOFFSETTO:+0200
TZNAME:CEST
DTSTART:20250330T010000
END:DAYLIGHT
BEGIN:STANDARD
TZOFFSETFROM:+0200
TZOFFSETTO:+0100
TZNAME:CET
DTSTART:20251026T010000
END:STANDARD
BEGIN:DAYLIGHT
TZOFFSETFROM:+0100
TZOFFSETTO:+0200
TZNAME:CEST
DTSTART:20260329T010000
END:DAYLIGHT
BEGIN:STANDARD
TZOFFSETFROM:+0200
TZOFFSETTO:+0100
TZNAME:CET
DTSTART:20261025T010000
END:STANDARD
BEGIN:DAYLIGHT
TZOFFSETFROM:+0100
TZOFFSETTO:+0200
TZNAME:CEST
DTSTART:20270328T010000
END:DAYLIGHT
BEGIN:STANDARD
TZOFFSETFROM:+0200
TZOFFSETTO:+0100
TZNAME:CET
DTSTART:20271031T010000
END:STANDARD
END:VTIMEZONE
BEGIN:VEVENT
DTSTART;TZID=Europe/Ljubljana:20260416T090000
DTEND;TZID=Europe/Ljubljana:20260416T200000
DTSTAMP:20260419T201430
CREATED:20260419T092028Z
LAST-MODIFIED:20260419T092156Z
UID:10002992-1776330000-1776369600@www.napovednikdogodkov.si
SUMMARY:Moda. Stil. Ferrariji. Simulator dirkanja: Optika Clarus BTC Ljubljana odpira NAJVEČJI oddelek Ray-Ban očal v Sloveniji!
DESCRIPTION:Slovenija\, pripravi se! Prihaja nekaj velikega! Pravzaprav NAJVEČJEGA! Optika Clarus BTC Ljubljana se bo v četrtek\, 16. aprila\, preobrazila v prostor\, kjer se srečajo moda\, tehnologija in adrenalin. Obiskovalce čaka NAJVEČJA IZBIRA Ray-Ban očal na enem mestu (Aviator\, Wayfarer\, Clubmaster\, Round\, Hexagonal\, Justin\, Erika\, …) – in izkušnja\, ki presega klasičen nakup\, saj se odpira NAJVEČJI ODDELEK Ray-Ban očal v Sloveniji. In kot se za Ray-Ban blagovno znamko spodobi – bo to pravo doživetje. Poleg vrhunske modne in tehnološke izkušnje bo obiskovalce prevzelo tudi pravo adrenalinsko vzdušje\, ki ga ne bodo zlahka pozabili. Za nepozabno doživetje bodo poskrbeli: – simulator dirkanja Formule 1 za realistično dirkaško izkušnjo\, – razstava štirih prestižnih vozil Ferrari\, – nagradne igre in darila ob nakupu Ray-Ban očal\, – vrhunski DJ za energično vzdušje\, barman in hostese. Kot vodilna optika v Sloveniji\, bomo na vpogled postavili tudi pametna očala Ray ban Meta\, ki jih bo lahko poskusil prav vsak! Doživite prihodnost od blizu s pametnimi očali Ray-Ban Meta: kjer vrhunska tehnologija postane vaš nov modni dodatek. Vabljeni\, da se pridružite in doživite edinstven Ray-Ban dogodek v Optiki Clarus BTC Ljubljana! Ray-Ban v Optiki Clarus BTC Ljubljana! Optika Clarus je vodilni ponudnik optičnih pripomočkov v Sloveniji (očala\, sončna očala in kontaktne leče). Ponuja več kot 100 blagovnih znamk očal v Sloveniji. \n  \nŽe več kot 30 let uspešno sledijo viziji »Veliko vedeti\, dobro videti in odlično izgledati«. V ambulantah\, ki so opremljene z najsodobnejšo tehnologijo\, nudijo različne vrste okulističnih pregledov\, znani pa so predvsem po zares obsežni ponudbi korekcijskih okvirjev\, sončnih\, športnih in otroških očal ter drugih optičnih pripomočkov (kontaktne leče\, lupe\, itd.) priznanih blagovnih znamk. Na voljo tudi v spletni trgovini. \n  \nDatum dogodka – Začetek:* 16.04.2026\nDatum dogodka – Konec:* 16.04.2026\nČas dogodka – Začetek (podaj uro):* 09:00\nČas dogodka – Konec (podaj uro):* 20:00\nČe je ponavljajoči se dogodek: \n  \nPrizorišče dogodka:* Optika Clarus BTC Ljubljana\nNaslov prizorišča (Ulica in hišna številka):* Trg mladih 9\nPoštna številka\, mesto oz. kraj Prizorišča:* 1000 Ljubljana\nObčina:* Ljubljana\nDržava Prizorišča:*\nTelefon Prizorišča:\nSpletna stran Prizorišča: https://clarus.si/aktualno/akcije/302/najvecja_ponudba_ray_ban_ocal_v_btc_ljubljana/ \n  \nOrganizator dogodka:* Optika Clarus\nTelefon – Organizator:\nSpletna stran – Organizator: \nSpletna stran – Dogodka: https://clarus.si/aktualno/akcije/302/najvecja_ponudba_ray_ban_ocal_v_btc_ljubljana/\nStroški Dogodka:* Prost vstop \n  \n16.4.2026 Moda. Stil. Ferrariji. Simulator dirkanja Optika Clarus BTC Ljubljana odpira NAJVEČJI oddelek Ray-Ban očal v Sloveniji!
URL:https://www.napovednikdogodkov.si/dogodek/moda-stil-ferrariji-simulator-dirkanja-optika-clarus-btc-ljubljana-odpira-najvecji-oddelek-ray-ban-ocal-v-sloveniji/
LOCATION:Optika Clarus BTC Ljubljana\, Trg mladih 9\, Ljubljana\, 1000\, Slovenia
CATEGORIES:Prireditve
ATTACH;FMTTYPE=image/jpeg:https://www.napovednikdogodkov.si/wp-content/uploads/2026/04/16.4.2026-Moda.-Stil.-Ferrariji.-Simulator-dirkanja-Optika-Clarus-BTC-Ljubljan.jpg
END:VEVENT
END:VCALENDAR