BEGIN:VCALENDAR
VERSION:2.0
PRODID:-//Napovednik dogodkov - dogodki, prireditve - ECPv6.15.13.1//NONSGML v1.0//EN
CALSCALE:GREGORIAN
METHOD:PUBLISH
X-ORIGINAL-URL:https://www.napovednikdogodkov.si
X-WR-CALDESC:Dogodki za Napovednik dogodkov - dogodki, prireditve
REFRESH-INTERVAL;VALUE=DURATION:PT1H
X-Robots-Tag:noindex
X-PUBLISHED-TTL:PT1H
BEGIN:VTIMEZONE
TZID:Europe/Ljubljana
BEGIN:DAYLIGHT
TZOFFSETFROM:+0100
TZOFFSETTO:+0200
TZNAME:CEST
DTSTART:20250330T010000
END:DAYLIGHT
BEGIN:STANDARD
TZOFFSETFROM:+0200
TZOFFSETTO:+0100
TZNAME:CET
DTSTART:20251026T010000
END:STANDARD
BEGIN:DAYLIGHT
TZOFFSETFROM:+0100
TZOFFSETTO:+0200
TZNAME:CEST
DTSTART:20260329T010000
END:DAYLIGHT
BEGIN:STANDARD
TZOFFSETFROM:+0200
TZOFFSETTO:+0100
TZNAME:CET
DTSTART:20261025T010000
END:STANDARD
BEGIN:DAYLIGHT
TZOFFSETFROM:+0100
TZOFFSETTO:+0200
TZNAME:CEST
DTSTART:20270328T010000
END:DAYLIGHT
BEGIN:STANDARD
TZOFFSETFROM:+0200
TZOFFSETTO:+0100
TZNAME:CET
DTSTART:20271031T010000
END:STANDARD
END:VTIMEZONE
BEGIN:VEVENT
DTSTART;TZID=Europe/Ljubljana:20260425T090000
DTEND;TZID=Europe/Ljubljana:20260425T140000
DTSTAMP:20260423T034807
CREATED:20260422T201554Z
LAST-MODIFIED:20260422T201638Z
UID:10002998-1777107600-1777125600@www.napovednikdogodkov.si
SUMMARY:9. pohod Po poti meteorita Jesenice\, 2026
DESCRIPTION:9. pohod Po poti meteorita Jesenice\, 2026\nGlavno besedilo dogodka:* Ob obletnici padca meteorita Jesenice na Mežakljo\, 9. aprila 2009\, prireja Društvo upokojencev Jesenice tradicionalni pohod Po poti meteorita. Letos bo to že deveti. Pohod bo v soboto\, 25. aprila 2026 s pričetkom ob 9. uri z zbirnega mesta na avtobusni postaji Kočna nad Jesenicami. Cilj je Planski vrh\, kjer so našli največji kos meteorita. Pohod ni zahteven in je primeren za vse generacije s povprečno kondicijo. Traja 2 uri do vrha in 1\,5 uro nazaj. \nSvetujemo pohodne palice in planinsko obutev. \nZa hrano in pijačo pohodniki poskrbijo sami. Pohod je brezplačen in na lastno odgovornost. \n  \nDatum dogodka – Začetek:* 25. april 2026\nDatum dogodka – Konec:* 25. april 2026\nČas dogodka – Začetek (podaj uro):* ob 9. uri\nČas dogodka – Konec (podaj uro):* ob 14. uri\nČe je ponavljajoči se dogodek: \n  \nPrizorišče dogodka:* Kočna – Obranca – Planski vrh – Kočna\nNaslov prizorišča (Ulica in hišna številka):* Avtobusna postaja na Kočni\nPoštna številka\, mesto oz. kraj Prizorišča:* 4270 Jesenice\nObčina:* Jesenice\nDržava Prizorišča:*\nTelefon Prizorišča:\nSpletna stran Prizorišča: \n  \nOrganizator dogodka:* Društvo upokojencev Jesenice\nTelefon – Organizator: 070 597 197\nSpletna stran – Organizator: https://duj.si/ \nSpletna stran – Dogodka: https://duj.si/2026/uncaterozied/9-pohod-po-poti-meteorita-25-5-2026\nStroški Dogodka:* brezplačno \n 
URL:https://www.napovednikdogodkov.si/dogodek/9-pohod-po-poti-meteorita-jesenice-2026/
LOCATION:Kočna – Obranca – Planski vrh – Kočna\, avtobusna postaja na Kočni\, Jesenice\, 4270\, Slovenia
CATEGORIES:Izobraževanja,Rekreacija
ATTACH;FMTTYPE=image/jpeg:https://www.napovednikdogodkov.si/wp-content/uploads/2026/04/25.4.2026-9.-pohod-Po-poti-meteorita-Jesenice-2026-napovednik-dogodki-prireditve-n.jpg
END:VEVENT
END:VCALENDAR