BEGIN:VCALENDAR
VERSION:2.0
PRODID:-//Napovednik dogodkov - dogodki, prireditve - ECPv6.15.13.1//NONSGML v1.0//EN
CALSCALE:GREGORIAN
METHOD:PUBLISH
X-WR-CALNAME:Napovednik dogodkov - dogodki, prireditve
X-ORIGINAL-URL:https://www.napovednikdogodkov.si
X-WR-CALDESC:Dogodki za Napovednik dogodkov - dogodki, prireditve
REFRESH-INTERVAL;VALUE=DURATION:PT1H
X-Robots-Tag:noindex
X-PUBLISHED-TTL:PT1H
BEGIN:VTIMEZONE
TZID:Europe/Ljubljana
BEGIN:DAYLIGHT
TZOFFSETFROM:+0100
TZOFFSETTO:+0200
TZNAME:CEST
DTSTART:20240331T010000
END:DAYLIGHT
BEGIN:STANDARD
TZOFFSETFROM:+0200
TZOFFSETTO:+0100
TZNAME:CET
DTSTART:20241027T010000
END:STANDARD
BEGIN:DAYLIGHT
TZOFFSETFROM:+0100
TZOFFSETTO:+0200
TZNAME:CEST
DTSTART:20250330T010000
END:DAYLIGHT
BEGIN:STANDARD
TZOFFSETFROM:+0200
TZOFFSETTO:+0100
TZNAME:CET
DTSTART:20251026T010000
END:STANDARD
BEGIN:DAYLIGHT
TZOFFSETFROM:+0100
TZOFFSETTO:+0200
TZNAME:CEST
DTSTART:20260329T010000
END:DAYLIGHT
BEGIN:STANDARD
TZOFFSETFROM:+0200
TZOFFSETTO:+0100
TZNAME:CET
DTSTART:20261025T010000
END:STANDARD
BEGIN:DAYLIGHT
TZOFFSETFROM:+0100
TZOFFSETTO:+0200
TZNAME:CEST
DTSTART:20270328T010000
END:DAYLIGHT
BEGIN:STANDARD
TZOFFSETFROM:+0200
TZOFFSETTO:+0100
TZNAME:CET
DTSTART:20271031T010000
END:STANDARD
BEGIN:DAYLIGHT
TZOFFSETFROM:+0100
TZOFFSETTO:+0200
TZNAME:CEST
DTSTART:20280326T010000
END:DAYLIGHT
BEGIN:STANDARD
TZOFFSETFROM:+0200
TZOFFSETTO:+0100
TZNAME:CET
DTSTART:20281029T010000
END:STANDARD
BEGIN:DAYLIGHT
TZOFFSETFROM:+0100
TZOFFSETTO:+0200
TZNAME:CEST
DTSTART:20290325T010000
END:DAYLIGHT
BEGIN:STANDARD
TZOFFSETFROM:+0200
TZOFFSETTO:+0100
TZNAME:CET
DTSTART:20291028T010000
END:STANDARD
BEGIN:DAYLIGHT
TZOFFSETFROM:+0100
TZOFFSETTO:+0200
TZNAME:CEST
DTSTART:20300331T010000
END:DAYLIGHT
BEGIN:STANDARD
TZOFFSETFROM:+0200
TZOFFSETTO:+0100
TZNAME:CET
DTSTART:20301027T010000
END:STANDARD
BEGIN:DAYLIGHT
TZOFFSETFROM:+0100
TZOFFSETTO:+0200
TZNAME:CEST
DTSTART:20310330T010000
END:DAYLIGHT
BEGIN:STANDARD
TZOFFSETFROM:+0200
TZOFFSETTO:+0100
TZNAME:CET
DTSTART:20311026T010000
END:STANDARD
END:VTIMEZONE
BEGIN:VEVENT
DTSTART;VALUE=DATE:20250101
DTEND;VALUE=DATE:20300102
DTSTAMP:20260419T185115
CREATED:20250130T083041Z
LAST-MODIFIED:20250130T083632Z
UID:10001505-1735689600-1893542399@www.napovednikdogodkov.si
SUMMARY:DODAJ SVOJ PREDMET V MUZEJ OKUSOV! / Pokrajinski muzej Maribor
DESCRIPTION:Si predstavljate\, da vaš dežnik\, babičin recept ali star košček mila postanejo del muzejske zbirke? \nPridružite se projektu Muzej okusov in soustvarite edinstveno virtualno zbirko\, kjer vsak predmet pripoveduje svojo zgodbo o 𝐬𝐥𝐚𝐝𝐤𝐞𝐦\, 𝐬𝐥𝐚𝐧𝐞𝐦\, 𝐤𝐢𝐬𝐥𝐞𝐦\, 𝐠𝐫𝐞𝐧𝐤𝐞𝐦 𝐚𝐥𝐢 𝐩𝐢𝐤𝐚𝐧𝐭𝐧𝐞𝐦 spominu. 📌 \n  \nSodelujte v treh korakih: 1. Izberite predmet\, ki vas povezuje z okusom. 2. Fotografirajte ga in napišite zgodbo o njegovem pomenu. 3. Pošljite prispevek preko obrazca. 👉 𝐊𝐥𝐢𝐤𝐧𝐢𝐭𝐞 𝐢𝐧 𝐩𝐫𝐢𝐬𝐩𝐞𝐯𝐚𝐣𝐭𝐞 𝐬𝐯𝐨𝐣 𝐩𝐫𝐞𝐝𝐦𝐞𝐭 𝐯 𝐌𝐮𝐳𝐞𝐣 𝐨𝐤𝐮𝐬𝐨𝐯: 🔗 https://museumoftaste.si/zbirka-predmetov/ \n  \nMuzej okusov je sodoben projekt Pokrajinskega muzeja Maribor\, ki združuje preteklost in sedanjost z inovativnimi pristopi. Njegov osrednji cilj je raziskovanje\, interpretacija in doživljanje okusov\, ki so nosilci spominov in pomemben del kulturne dediščine. Projekt spodbuja razmislek o povezavi okusov z osebnimi predmeti ter njihovim simbolnim pomenom v vsakdanjem življenju in zgodovinskem kontekstu. \nDatum dogodka – Začetek:* 1. 1. 2024\nDatum dogodka – Konec:* 1. 1. 2030\nČas dogodka – Začetek (podaj uro):* 18.00\nČas dogodka – Konec (podaj uro):* 24.00\nČe je ponavljajoči se dogodek: \n  \nPrizorišče dogodka oz. Spletna stran dogodka – Povezava URL oz. Link:* https://museumoftaste.si/\nOrganizator dogodka:* Pokrajinski muzej Maribor\nTelefon – Organizator: +386 2 228 35 51\nSpletna stran – Organizator: https://museum-mb.si/\nEmail – Organizator:* museum@museum-mb.si \nStroški Dogodka:* Brezplačno
URL:https://www.napovednikdogodkov.si/dogodek/dodaj-svoj-predmet-v-muzej-okusov-pokrajinski-muzej-maribor/
LOCATION:Pokrajinski muzej Maribor\, Grajska ulica 2\, Maribor\, 2000\, Slovenia
CATEGORIES:Daljši dogodki,Spletni dogodki
ATTACH;FMTTYPE=image/jpeg:https://www.napovednikdogodkov.si/wp-content/uploads/2025/01/1.1.2025-DODAJ-SVOJ-PREDMET-V-MUZEJ-OKUSOV-napovednik-dogodki-prireditve.jpg
END:VEVENT
BEGIN:VEVENT
DTSTART;VALUE=DATE:20250901
DTEND;VALUE=DATE:20260921
DTSTAMP:20260419T185115
CREATED:20250426T111206Z
LAST-MODIFIED:20250426T111306Z
UID:10001915-1756684800-1789948799@www.napovednikdogodkov.si
SUMMARY:Vpis v KINO GLEDALIŠKI OTROŠKI ABONMA 2025/2026 - Kino Bežigrad / Ljubljana
DESCRIPTION:Septembra oder Kina Bežigrad ponovno oživi\, saj svet gledališča in domišljije ponovno odpira svoja vrata. \n🤩 Skupaj z otroki boste spoznavali junake\, ki so že zdavnaj našli pot v naša in njihova srca. \n❤️ Tudi sezono 2025/2026 naj vaš otrok sam izbere\, kaj si želi doživeti – izbira lahko med kar 25 pravljičnimi naslovi! \n🔥 In ker Kino Bežigrad združuje čar gledališča in filma\, lahko v svoj abonma vključite tudi kino doživetje. \n  \n🎬 Ustvarite si sezono čisto po svoji meri\, izbirajte med 25 naslovi: \n13. 9 .2025 – Edo in Medo 🐻 \n20. 9. 2025 – Kako objeti ježa? 🦔 \n4. 10. 2025 – Mojca pokrajculja 🐰 \n11. 10. 2025 – Lisička zvitorepka 🦊 \n18. 10. 2025 – Pika Nogavička v šoli 🧦 \n25. 10. 2025 – Rdeča kapica 👧 \n8. 11. 2025 – Mehurčki 🫧 \n15. 11. 2025 – Muca Maca in maček Muri 🐱 \n22. 11. 2025 – Kokoška Emilija 🐔 \n29. 11. 2025 – Šivilja in škarjice ✂️ \n6. 12. 2025 – Pika Nogavička piše Miklavžu + obisk Miklavža + darilca ✉️ \n21. 12. 2025 – Dedkov pridnometer + obisk Dedka Mraza + darilca 🎄 \n10. 1. 2026 – Muca Copatarica 🐾 \n17. 1. 2026 – Grdi raček 🦆 \n24. 1. 2026 – Zmešnjava iz kovčka 🎭 \n31. 1. 2026 – Maček Muri išče kroniko 🕵️‍♂️ \n7. 2. 2026 – Picko in Packo 🤹‍♂️ \n14. 2.2026 – Mini cirkus Bufeto 🎪 \n28. 2.2026 – BibaMica na koncertu 🎵 \n7. 3.2026 – Pekarna Mišmaš 👨‍🍳 \n14. 3.2026 – Peter Nos 👃 \n21. 3.2026 – Pika Nogavička in gusar Val 🏴‍☠️ \n28. 3.2026 – Balon velikon 🎈 \n11. 4.2026 – Veveriček posebne sorte 🐿️ \n18. 4.2026 – Ena bolha za pomoč 🐜 \n  \n Cenik\, vpis in vse ostale informacije na 🎟️ https://bit.ly/46B9MiQ 🎟️ \n  \nDatum dogodka – Začetek:* 13. 9. 2025\nDatum dogodka – Konec:* 18. 4. 2026\nČas dogodka – Začetek (podaj uro):* 11.00\nČas dogodka – Konec (podaj uro):* 11.30 \n  \nČe je ponavljajoči se dogodek: 13. 9 .2025 – Edo in Medo 🐻 20. 9. 2025 – Kako objeti ježa? 🦔 4. 10. 2025 – Mojca pokrajculja 🐰 11. 10. 2025 – Lisička zvitorepka 🦊 18. 10. 2025 – Pika Nogavička v šoli 🧦 25. 10. 2025 – Rdeča kapica 👧 8. 11. 2025 – Mehurčki 🫧 15. 11. 2025 – Muca Maca in maček Muri 🐱 22. 11. 2025 – Kokoška Emilija 🐔 29. 11. 2025 – Šivilja in škarjice ✂️ 6. 12. 2025 – Pika Nogavička piše Miklavžu + obisk Miklavža + darilca ✉️ 21. 12. 2025 – Dedkov pridnometer + obisk Dedka Mraza + darilca 🎄 10. 1. 2026 – Muca Copatarica 🐾 17. 1. 2026 – Grdi raček 🦆 24. 1. 2026 – Zmešnjava iz kovčka 🎭 31. 1. 2026 – Maček Muri išče kroniko 🕵️‍♂️ 7. 2. 2026 – Picko in Packo 🤹‍♂️ 14. 2.2026 – Mini cirkus Bufeto 🎪 28. 2.2026 – BibaMica na koncertu 🎵 7. 3.2026 – Pekarna Mišmaš 👨‍🍳 14. 3.2026 – Peter Nos 👃 21. 3.2026 – Pika Nogavička in gusar Val 🏴‍☠️ 28. 3.2026 – Balon velikon 🎈 11. 4.2026 – Veveriček posebne sorte 🐿️ 18. 4.2026 – Ena bolha za pomoč 🐜 \n  \nKARTE: \nSpletna stran – Dogodka: https://bit.ly/46B9MiQ \n  \nPrizorišče dogodka:* Kino Bežigrad\nNaslov prizorišča (Ulica in hišna številka):* Linhartova cesta 11\nPoštna številka\, mesto oz. kraj Prizorišča:* 1000\nObčina:* Ljubljana \n  \nOrganizator dogodka:* Kino Bežigrad\nTelefon – Organizator:\nSpletna stran – Organizator:\nEmail – Organizator:* info@kino-bezigrad.si \n  \nSpletna stran – Dogodka: https://bit.ly/46B9MiQ \n  \nStroški Dogodka:* Različno
URL:https://www.napovednikdogodkov.si/dogodek/vpis-v-kino-gledaliski-otroski-abonma-2025-2026-kino-bezigrad-ljubljana/
LOCATION:Kino Bežigrad\, Linhartova cesta 11\, Ljubljana\, 1000\, Slovenia
CATEGORIES:Gledališče,Kino,Prireditve,Za otroke
ATTACH;FMTTYPE=image/jpeg:https://www.napovednikdogodkov.si/wp-content/uploads/2025/04/13.9.2025-KINO-GLEDALISKI-OTROSKI-ABONMA-20252026-napovednik-dogodki-prireditve.jpg
ORGANIZER;CN="Kino Be%C5%BEigrad":MAILTO:info@kino-bezigrad.si
END:VEVENT
BEGIN:VEVENT
DTSTART;TZID=Europe/Ljubljana:20250915T070000
DTEND;TZID=Europe/Ljubljana:20260915T230000
DTSTAMP:20260419T185115
CREATED:20250912T205615Z
LAST-MODIFIED:20250912T210109Z
UID:10002379-1757919600-1789513200@www.napovednikdogodkov.si
SUMMARY:Razstava » ČEZ OKVIR « / Dvor Tacen Cafe\, Ljubljana
DESCRIPTION:Razstava » ČEZ OKVIR «\n15.september\, 2025 @ 07:00 – 15.september\, 2026 @ 23:00 \n  \nRazstava »Čez okvir« Mirjam Semolič Sore \nAkademska kiparka in slikarka se predstavlja z novo ambientalno postavitvijo slikarske razstave 2025/2026 v prostorih Kavarne Dvor Tacen Cafe. \n  \nOrganizator dogodka: Kulturno društvo ROPOT\nTelefon – Organizator: +386 31 83 36 47\nEmail – Organizator: mirjam.mms@gmail.com \n  \nStroški Dogodka: prost vstop \n  \n \n 
URL:https://www.napovednikdogodkov.si/dogodek/razstava-cez-okvir-dvor-tacen-cafe-ljubljana/
LOCATION:Kavarna Dvor Tacen Cafe.\, Pot sodarjev 2\, Ljubljana\, 1211\, Slovenia
CATEGORIES:Daljši dogodki,Razstave
ATTACH;FMTTYPE=image/jpeg:https://www.napovednikdogodkov.si/wp-content/uploads/2025/09/15.9.2025-Razstava-CEZ-OKVIR-napovednik-dogodki-prireditve-n1.jpg
ORGANIZER;CN="Kulturno dru%C5%A1tvo ROPOT":MAILTO:mirjam.mms@gmail.com
END:VEVENT
END:VCALENDAR