BEGIN:VCALENDAR
VERSION:2.0
PRODID:-//Napovednik dogodkov - dogodki, prireditve - ECPv6.15.13.1//NONSGML v1.0//EN
CALSCALE:GREGORIAN
METHOD:PUBLISH
X-ORIGINAL-URL:https://www.napovednikdogodkov.si
X-WR-CALDESC:Dogodki za Napovednik dogodkov - dogodki, prireditve
REFRESH-INTERVAL;VALUE=DURATION:PT1H
X-Robots-Tag:noindex
X-PUBLISHED-TTL:PT1H
BEGIN:VTIMEZONE
TZID:Europe/Ljubljana
BEGIN:DAYLIGHT
TZOFFSETFROM:+0100
TZOFFSETTO:+0200
TZNAME:CEST
DTSTART:20240331T010000
END:DAYLIGHT
BEGIN:STANDARD
TZOFFSETFROM:+0200
TZOFFSETTO:+0100
TZNAME:CET
DTSTART:20241027T010000
END:STANDARD
BEGIN:DAYLIGHT
TZOFFSETFROM:+0100
TZOFFSETTO:+0200
TZNAME:CEST
DTSTART:20250330T010000
END:DAYLIGHT
BEGIN:STANDARD
TZOFFSETFROM:+0200
TZOFFSETTO:+0100
TZNAME:CET
DTSTART:20251026T010000
END:STANDARD
BEGIN:DAYLIGHT
TZOFFSETFROM:+0100
TZOFFSETTO:+0200
TZNAME:CEST
DTSTART:20260329T010000
END:DAYLIGHT
BEGIN:STANDARD
TZOFFSETFROM:+0200
TZOFFSETTO:+0100
TZNAME:CET
DTSTART:20261025T010000
END:STANDARD
BEGIN:DAYLIGHT
TZOFFSETFROM:+0100
TZOFFSETTO:+0200
TZNAME:CEST
DTSTART:20270328T010000
END:DAYLIGHT
BEGIN:STANDARD
TZOFFSETFROM:+0200
TZOFFSETTO:+0100
TZNAME:CET
DTSTART:20271031T010000
END:STANDARD
END:VTIMEZONE
BEGIN:VEVENT
DTSTART;TZID=Europe/Ljubljana:20250915T070000
DTEND;TZID=Europe/Ljubljana:20260915T230000
DTSTAMP:20260421T213423
CREATED:20250912T205615Z
LAST-MODIFIED:20250912T210109Z
UID:10002379-1757919600-1789513200@www.napovednikdogodkov.si
SUMMARY:Razstava » ČEZ OKVIR « / Dvor Tacen Cafe\, Ljubljana
DESCRIPTION:Razstava » ČEZ OKVIR «\n15.september\, 2025 @ 07:00 – 15.september\, 2026 @ 23:00 \n  \nRazstava »Čez okvir« Mirjam Semolič Sore \nAkademska kiparka in slikarka se predstavlja z novo ambientalno postavitvijo slikarske razstave 2025/2026 v prostorih Kavarne Dvor Tacen Cafe. \n  \nOrganizator dogodka: Kulturno društvo ROPOT\nTelefon – Organizator: +386 31 83 36 47\nEmail – Organizator: mirjam.mms@gmail.com \n  \nStroški Dogodka: prost vstop \n  \n \n 
URL:https://www.napovednikdogodkov.si/dogodek/razstava-cez-okvir-dvor-tacen-cafe-ljubljana/
LOCATION:Kavarna Dvor Tacen Cafe.\, Pot sodarjev 2\, Ljubljana\, 1211\, Slovenia
CATEGORIES:Daljši dogodki,Razstave
ATTACH;FMTTYPE=image/jpeg:https://www.napovednikdogodkov.si/wp-content/uploads/2025/09/15.9.2025-Razstava-CEZ-OKVIR-napovednik-dogodki-prireditve-n1.jpg
ORGANIZER;CN="Kulturno dru%C5%A1tvo ROPOT":MAILTO:mirjam.mms@gmail.com
END:VEVENT
BEGIN:VEVENT
DTSTART;TZID=Europe/Ljubljana:20251130T120000
DTEND;TZID=Europe/Ljubljana:20260503T190000
DTSTAMP:20260421T213423
CREATED:20250924T065851Z
LAST-MODIFIED:20250924T070158Z
UID:10002414-1764504000-1777834800@www.napovednikdogodkov.si
SUMMARY:ART VITAL – 12 let tandema Ulay / Marina Abramović - Cukrarna
DESCRIPTION:Razstava ART VITAL – 12 let tandema Ulay/Marina Abramović prinaša prvi celosten vpogled v dvanajst let skupnega življenja in ustvarjanja dveh ikoničnih imen performativne umetnosti\, Franka Uweja Laysiepna – Ulaya in Marine Abramović. Njuno sodelovanje je trajalo od leta 1976\, ko sta na Beneškem bienalu izvedla prvi skupni performans\, do leta 1988\, ko sta se z epskim popotovanjem po Velikem kitajskem zidu\, med katerim sta pešačila drug proti drugemu\, razšla. Pet let sta živela v Citroënovem kombiju\, ki je bil njun dom na štirih kolesih\, v nenehnem gibanju\, potovanju\, iskanju\, pogovorih\, koncipiranju\, življenju. Nomadski duh in njuna neizmerna energija ter odkrivanje sočasne povezanosti dveh bitij s svetom okoli njiju – to so bile glavne silnice njune zavezanosti umetnosti. Življenje je bilo umetnost in umetnost je bila življenje. \nNjuna dela so premikala meje umetnosti\, presenečala z drznostjo\, vznemirjala\, a hkrati navduševala in vzbujala občudovanje. Poleg kultnih performansov\, ohranjenih v videodokumentaciji in fotografskih serijah\, bo v razstavo vključeno tudi efemerno in arhivsko gradivo\, ki javnosti doslej še ni bilo na ogled. Na razstavi v Cukrarni bodo predstavljena umetniška dela\, dokumenti\, zapiski\, skice\, risbe in pisma\, rekviziti performansov in predmeti iz osebnih arhivov umetnikov; z vsem tem gradivom bomo osvetlili njuno izjemno ustvarjanje. Predstavljene bodo vse faze njunega sodelovanja\, pa tudi téme\, ki so zaznamovale njuno raziskovanje in narekovale vsebino njunih performansov. Razstava nastaja v sodelovanju s Fundacijo Ulay in Leno Pislak\, ter arhivom Marine Abramović in Sydney Fishman\, kurirata jo umetniška vodja Cukrarne\, Alenka Gregorič in profesorica dunajske akademije likovnih umetnosti\, Felicitas Thun-Hohenstein. Razstavo omogočata: Mestna občina Ljubljana\, Ministrstvo za kulturo Republike Slovenije; Generalni pokrovitelj: STRABAG; Pokrovitelj: STRATKOM; Glavni medijski partner: Delo; Medijski partnerji: Europlakat\, TAM-TAM\, Mladina\, Media Bus\, DPG\, Ljubljana Airport (Fraport Slovenija); Partnerji: Slovenska turistična organizacija (STO)\, Turizem Ljubljana; Uradna prodaja vstopnic: mojekarte.si \n— Več o razstavi si preberite na spletni strani: https://cukrarna.art/sl/program/razstave/33/ulay-marina-abramovic/ Foto: Amsterdam\, 1976. Foto © Ulay / Marina Abramović. Z dovoljenjem arhiva Marine Abramović. Ogledi bodo potekali v določenih časovnih sklopih\, kar nam omogoča\, da zagotovimo prijetno in varno izkušnjo za vse obiskovalce glede na kapaciteto prostora. \nKo enkrat vstopite\, si lahko razstavo ogledate v svojem tempu in v prostoru ostanete dlje časa\, obisk ne bo omejen zgolj na eno uro. Rezervacija terminov in prodaja vstopnic je omogočena za obdobje 30. 11. 2025 do 3. 5. 2026\, pri čemer so dnevi odprtih vrat\, kot so dan odprtja razstave\, Prešernov dan in drugi praznični dnevi\, izključeni. Prodaja za dneve odprtih vrat se bo pričela najkasneje 1 teden prej. Vsak dan bo dodatno število omejenih vstopnic na voljo za nakup na recepciji Cukrarne. \n  \nDatum dogodka – Začetek:* 30.11.2025\nDatum dogodka – Konec:* 3.5.2026\nČas dogodka – Začetek (podaj uro):* 12:00\nČas dogodka – Konec (podaj uro):* 19:00\nČe je ponavljajoči se dogodek: \n  \nPrizorišče dogodka:* Cukrarna\nNaslov prizorišča (Ulica in hišna številka):* Poljanski nasip 40\nPoštna številka\, mesto oz. kraj Prizorišča:* 1000\nObčina:* Ljubljana\nDržava Prizorišča:*\nTelefon Prizorišča: +386 (0)1 241 25 73\nSpletna stran Prizorišča: https://cukrarna.art/sl/ \n  \nOrganizator dogodka:* Cukrarna\nTelefon – Organizator: +386 (0)1 241 25 73\nSpletna stran – Organizator: https://cukrarna.art/sl/ \nSpletna stran – Dogodka: https://cukrarna.art/sl/program/razstave/33/ulaymarina-abramovic/ \n  \nKARTE \nStroški Dogodka:* https://mgml.mojekarte.si/si/art-vital-12-let-tandema-ulay-marina-abramovic/dogodki-1202073.html
URL:https://www.napovednikdogodkov.si/dogodek/art-vital-12-let-tandema-ulay-marina-abramovic-cukrarna/
LOCATION:CUKRARNA\, Poljanski nasip 40\, Ljubljana\, 1000\, Slovenia
CATEGORIES:Daljši dogodki,Razstave
ATTACH;FMTTYPE=image/jpeg:https://www.napovednikdogodkov.si/wp-content/uploads/2025/09/30.11.2025-ART-VITAL-–-12-let-tandema-Ulay-Marina-Abramovic-napovednik-dogodki-prireditve.jpg
ORGANIZER;CN="Cukrarna":MAILTO:info@cukrarna.art
END:VEVENT
BEGIN:VEVENT
DTSTART;VALUE=DATE:20251203
DTEND;VALUE=DATE:20260304
DTSTAMP:20260421T213423
CREATED:20251126T081152Z
LAST-MODIFIED:20251126T081544Z
UID:10002625-1764720000-1772582399@www.napovednikdogodkov.si
SUMMARY:Vezi med Dunajem in Kranjsko v arhivskem gradivu Rudnika živega srebra Idrija
DESCRIPTION:Zgodovinski arhiv Ljubljana od leta 2014 evidentira arhivsko gradivo svetovno znanega\, več kot 500 let delujočega Rudnika živega srebra Idrija v Avstrijskem državnem arhivu na Dunaju. S priložnostno razstavo želimo prikazati nekaj vizualno zanimivega arhivskega gradiva iz dunajskega arhiva in seznaniti javnost z možnostjo raziskovanja rudniške zgodovine na podlagi pridobljenih reprodukcij v Zgodovinskem arhivu Ljubljana\, v Enoti v Idriji. Razstava bo na ogled v razstavnem prostoru Izložba Zgodovinskega arhiva Ljubljana\, Trdinova ulica 4\, med 3. decembrom 2025 in 3. marcem 2026. \nVabljeni na ogled! \n  \nDatum dogodka – Začetek:* 3.12.2025\nDatum dogodka – Konec:* 3.3.2026\nČas dogodka – Začetek (podaj uro):* 12:00\nČas dogodka – Konec (podaj uro):* 12:00\nČe je ponavljajoči se dogodek: \n  \nPrizorišče dogodka:* Zgodovinski arhiv Ljubljana\nNaslov prizorišča (Ulica in hišna številka):* Trdinova ulica 4\nPoštna številka\, mesto oz. kraj Prizorišča:* 1000\nObčina:* Ljubljana\nDržava Prizorišča:*\nTelefon Prizorišča:\nSpletna stran Prizorišča: \n  \nOrganizator dogodka:* Zgodovinski arhiv Ljubljana\nTelefon – Organizator: \nSpletna stran – Dogodka:\nStroški Dogodka:* Prost vstop
URL:https://www.napovednikdogodkov.si/dogodek/vezi-med-dunajem-in-kranjsko-v-arhivskem-gradivu-rudnika-zivega-srebra-idrija/
LOCATION:Zgodovinski arhiv Ljubljana\, Trdinova ulica 4\, Ljubljana\, 1000\, Slovenia
CATEGORIES:Daljši dogodki,Razstave
ATTACH;FMTTYPE=image/jpeg:https://www.napovednikdogodkov.si/wp-content/uploads/2025/11/3.12.2025-Vezi-med-Dunajem-in-Kranjsko-v-arhivskem-gradivu-Rudnika-zivega-srebra-Idrija-1.jpg
ORGANIZER;CN="Zgodovinski arhiv Ljubljana":MAILTO:kristijan.troha@zal-lj.si
END:VEVENT
BEGIN:VEVENT
DTSTART;VALUE=DATE:20251210
DTEND;VALUE=DATE:20260126
DTSTAMP:20260421T213423
CREATED:20260117T223057Z
LAST-MODIFIED:20260117T223312Z
UID:10002740-1765324800-1769385599@www.napovednikdogodkov.si
SUMMARY:Razstava Ujeta svetloba štirih desetletij
DESCRIPTION:Ob jubilejni razstavi obeležujemo štirideset let ustvarjalnega delovanja Foto kluba Anton Ažbe. V tem času je klub povezal generacije ljubiteljev fotografije\, gojil znanje\, spodbujal radovednost ter odpiral prostor za umetniški izraz v lokalnem in širšem okolju. Razstava prinaša izbor del članov kluba – od sodobnih umetniških fotografij do dokumentarno-zgodovinskih posnetkov\, ki ohranjajo spomin na čas\, ljudi in kraje. Fotografija je v tem obdobju doživela velik tehnološki in estetski razvoj: od analognih filmov do digitalnih tipal\, od temnice do računalniške obdelave. A bistvo ostaja enako – svetloba\, ujet trenutek in pogled ustvarjalca. Vsaka podoba nosi svojo zgodbo\, skupaj pa razkrivajo bogato pot\, ki jo je klub prehodil od ustanovitve do danes. Razstava je kot poklon vsem\, ki so s svojim delom\, predanostjo in vizijo oblikovali identiteto Foto kluba Anton Ažbe — ter kot povabilo k novim ustvarjalnim desetletjem. Razstava bo na ogled v Galeriji Sokolskega doma od 10.12.2025 do 25. 1. 2026. \n  \nSokolski dom Škofja Loka je v času razstave odprt: – torek–petek: 10.00–12.00 in 17.00–19.00 – sobota: 9.30–12.30\, – nedelja: 9.30–12.30 in 17.00–19.00. Ob ponedeljkih in praznikih je Sokolski dom zaprt. Foto: Hribec\, fotografiral Peter Pokorn st. \n  \nDatum dogodka – Začetek:* 10.12.2025\nDatum dogodka – Konec:* 25.1.2026\nČas dogodka – Začetek (podaj uro):* po urniku\nČas dogodka – Konec (podaj uro):* po urniku\nČe je ponavljajoči se dogodek: \n  \nPrizorišče dogodka:* Sokolski dom Škofja Loka\nNaslov prizorišča (Ulica in hišna številka):* Mestni trg 17\nPoštna številka\, mesto oz. kraj Prizorišča:* 4220\nObčina:* Škofja Loka\nDržava Prizorišča:*\nTelefon Prizorišča:\nSpletna stran Prizorišča: https://www.sokolskidom.si/ \n  \nOrganizator dogodka:* Foto klub Anton Ažbe\nTelefon – Organizator:\nSpletna stran – Organizator: \nSpletna stran – Dogodka: https://www.sokolskidom.si/objava/1194853\nStroški Dogodka:* Prost vstop
URL:https://www.napovednikdogodkov.si/dogodek/razstava-ujeta-svetloba-stirih-desetletij/
LOCATION:Sokolski dom Škofja Loka\, Mestni trg 17\, ŠKOFJA LOKA\, 4220\, Slovenia
CATEGORIES:Daljši dogodki,Razstave
ATTACH;FMTTYPE=image/jpeg:https://www.napovednikdogodkov.si/wp-content/uploads/2026/01/25.1.2026-Razstava-Ujeta-svetloba-stirih-desetletij-napovednik-dogodki.jpg
END:VEVENT
END:VCALENDAR