BEGIN:VCALENDAR
VERSION:2.0
PRODID:-//Napovednik dogodkov - dogodki, prireditve - ECPv6.15.13.1//NONSGML v1.0//EN
CALSCALE:GREGORIAN
METHOD:PUBLISH
X-WR-CALNAME:Napovednik dogodkov - dogodki, prireditve
X-ORIGINAL-URL:https://www.napovednikdogodkov.si
X-WR-CALDESC:Dogodki za Napovednik dogodkov - dogodki, prireditve
REFRESH-INTERVAL;VALUE=DURATION:PT1H
X-Robots-Tag:noindex
X-PUBLISHED-TTL:PT1H
BEGIN:VTIMEZONE
TZID:Europe/Ljubljana
BEGIN:DAYLIGHT
TZOFFSETFROM:+0100
TZOFFSETTO:+0200
TZNAME:CEST
DTSTART:20250330T010000
END:DAYLIGHT
BEGIN:STANDARD
TZOFFSETFROM:+0200
TZOFFSETTO:+0100
TZNAME:CET
DTSTART:20251026T010000
END:STANDARD
BEGIN:DAYLIGHT
TZOFFSETFROM:+0100
TZOFFSETTO:+0200
TZNAME:CEST
DTSTART:20260329T010000
END:DAYLIGHT
BEGIN:STANDARD
TZOFFSETFROM:+0200
TZOFFSETTO:+0100
TZNAME:CET
DTSTART:20261025T010000
END:STANDARD
BEGIN:DAYLIGHT
TZOFFSETFROM:+0100
TZOFFSETTO:+0200
TZNAME:CEST
DTSTART:20270328T010000
END:DAYLIGHT
BEGIN:STANDARD
TZOFFSETFROM:+0200
TZOFFSETTO:+0100
TZNAME:CET
DTSTART:20271031T010000
END:STANDARD
END:VTIMEZONE
BEGIN:VEVENT
DTSTART;TZID=Europe/Ljubljana:20260506T180000
DTEND;TZID=Europe/Ljubljana:20260506T203000
DTSTAMP:20260419T141723
CREATED:20260402T192350Z
LAST-MODIFIED:20260402T192447Z
UID:10002953-1778090400-1778099400@www.napovednikdogodkov.si
SUMMARY:VEČER ZMAGOVALCEV: plamen upanja s Seanom Swarnerjem
DESCRIPTION:VEČER ZMAGOVALCEV: plamen upanja s Seanom Swarnerjem\nGlavno besedilo dogodka:* Obstajajo večeri\, po katerih ne odidete domov isti. “Večer zmagovalcev: Plamen upanja” ni le dogodek. Je prostor\, kjer se srečajo resnične zgodbe\, pogum\, upanje in ljudje\, ki želijo v sebi znova prižgati iskro. Ali zakuriti kres v sebi. To je večer za vse\, ki čutite\, da je čas za premik. Za vse\, ki si želite več globine\, več smisla in več notranje moči za naslednji korak. Ob 1. obletnici podcasta “Zgodbe zmagovalcev z Rokom Slamo” vas vabimo na poseben večer\, ki ne bo ostal le pri lepih besedah. Želimo\, da odidete domov z občutkom\, da je tudi v vašem življenju mogoče narediti nov korak naprej. Tudi takrat\, ko je težko. Tudi takrat\, ko se zdi\, da plamena skoraj ni več. Osrednji gost večera bo Sean Swarner. Človek\, ki je dvakrat preživel smrtonosnega raka in se povzpel na Mount Everest. Njegova zgodba ni zgodba popolnosti. Je zgodba odločitev\, vztrajnosti in poguma v trenutkih\, ko bi večina obupala. Prav zato njegov nastop ne pusti ravnodušnega. Ne zato\, ker bi govoril o nemogočem\, ampak zato\, ker pokaže\, kaj je mogoče\, ko se človek odloči iti naprej. KAJ VAS ČAKA? – Večer z jasno rdečo nitjo in močnim sporočilom – Podkast pogovor na odru z Rokom Slamo POTRJENI GOVORNIKI: – Damijan Janžekovič – Darko Đurić – Sean Swarner To ni klasično predavanje in ni motivacija za dva dni. To je večer\, ki vrača občutek\, da niste sami. Večer\, ki vas spomni\, da je lahko tudi ena iskra dovolj za nov začetek. \nKLJUČNE INFORMACIJE KDAJ: sreda\, 6. maj 2026 od 18.00 do 20.30 LOKACIJA: Kongresna dvorana Smelt\, Dunajska cesta 160\, Ljubljana JEZIK IN PREVOD Dogodek bo potekal v slovenščini in angleščini. Zagotovljen bo simultani prevod iz angleščine v slovenščino. Dogodek se bo snemal. VSTOPNICE Standard vstopnica: 39 € v predprodaji (69 € redna cena) VIP vstopnica: 169 € (število VIP vstopnic je strogo omejeno) VIP vključuje: – sedež v prvih vrstah – zgodnji vstop ob 17.00 – VIP druženje s pogostitvijo po dogodku – meet and greet oziroma fotografijo s Seanom – 2 izvoda knjige Nepremagljiv s podpisom POVEZAVA DO VSTOPNIC: https://fienta.com/sl/vecer-zmagovalcev-plamen-upanja \n  \nVeč informacij: vecerzmagovalcev.si PODPORNIKI VEČERA Tosidos eDriver Sun Events E3Plus Svetovanje Oberč Jereb Če želite dogodek podpreti kot partner\, lahko pišete na rok.slama@zmagovalci.com \n  \nDatum dogodka – Začetek:* 6. 5. 2026\nDatum dogodka – Konec:* 6. 5. 2026\nČas dogodka – Začetek (podaj uro):* 18:00\nČas dogodka – Konec (podaj uro):* 20:30\nČe je ponavljajoči se dogodek: \n  \nPrizorišče dogodka:* Kongresna dvorana Smelt\nNaslov prizorišča (Ulica in hišna številka):* Dunajska 160\nPoštna številka\, mesto oz. kraj Prizorišča:* 1000\, Ljubljana\nObčina:* Ljubljana\nDržava Prizorišča:*\nTelefon Prizorišča:\nSpletna stran Prizorišča: \n  \nOrganizator dogodka:* Sun events d.o.o.\nTelefon – Organizator: 031724850\nSpletna stran – Organizator: vecerzmagovalcev.si\nEmail – Organizator:* rok.slama@zmagovalci.com \nSpletna stran – Dogodka: vecerzmagovalcev.si\nStroški Dogodka:* 39€
URL:https://www.napovednikdogodkov.si/dogodek/vecer-zmagovalcev-plamen-upanja-s-seanom-swarnerjem/
LOCATION:Kongresna dvorana Smelt\, Dunajska cesta 160\, Ljubljana\, 1000\, Slovenia
CATEGORIES:Izobraževanja,Poslovni dogodki in Kariera
ATTACH;FMTTYPE=image/jpeg:https://www.napovednikdogodkov.si/wp-content/uploads/2026/04/6.5.2026-VECER-ZMAGOVALCEV-plamen-upanja-s-Seanom-Swarnerjem-napovednik.jpg
END:VEVENT
BEGIN:VEVENT
DTSTART;VALUE=DATE:20260521
DTEND;VALUE=DATE:20260523
DTSTAMP:20260419T141723
CREATED:20260404T185903Z
LAST-MODIFIED:20260404T185951Z
UID:10002961-1779321600-1779494399@www.napovednikdogodkov.si
SUMMARY:Dan ZDSS 2026: Poglobljeno\, aktualno\, povezovalno
DESCRIPTION:Dan ZDSS 2026: Poglobljeno\, aktualno\, povezovalno \nGlavno besedilo dogodka:* 𝐃𝐚𝐧 𝐙𝐃𝐒𝐒 𝟐𝟎𝟐𝟔 – osrednji strokovni dogodek za davčne\, računovodske\, pravne in finančne strokovnjake Vabljeni na 2-dnevni strokovni dogodek 𝐙𝐛𝐨𝐫𝐧𝐢𝐜𝐞 𝐝𝐚𝐯č𝐧𝐢𝐡 𝐬𝐯𝐞𝐭𝐨𝐯𝐚𝐥𝐜𝐞𝐯 𝐒𝐥𝐨𝐯𝐞𝐧𝐢𝐣𝐞\, ki bo potekal 𝟐𝟏. 𝐢𝐧 𝟐𝟐. 𝐦𝐚𝐣𝐚 𝟐𝟎𝟐𝟔 v Termah Dobrna. \n🎯 𝟐-𝐝𝐧𝐞𝐯𝐧𝐢 𝐃𝐚𝐧 𝐙𝐃𝐒𝐒 𝐩𝐫𝐢𝐧𝐚š𝐚: \n✅ Poglobljene davčne in računovodske teme ✅ Konkretne primere iz prakse ✅ Priznane strokovnjake in predavatelje \n✅ Skupščino ZDSS (za člane) \n✅ Priložnost za mreženje in izmenjavo izkušenj \n  \n💡 Letošnja rdeča nit: 𝑷𝒐𝒈𝒍𝒐𝒃𝒍𝒋𝒆𝒏𝒐\, 𝒂𝒌𝒕𝒖𝒂𝒍𝒏𝒐\, 𝒑𝒐𝒗𝒆𝒛𝒐𝒗𝒂𝒍𝒏𝒐 \n🔍 𝐏𝐫𝐨𝐠𝐫𝐚𝐦: \n🔷 𝐒𝐮𝐛𝐯𝐞𝐧𝐜𝐢𝐣𝐞 𝐯 𝐬𝐢𝐬𝐭𝐞𝐦𝐮 𝐃𝐃𝐕 – dr. Matjaž Prusnik (Zveza RFR) \n🔷 𝐈𝐳𝐬𝐭𝐨𝐩 𝐝𝐫𝐮ž𝐛𝐞𝐧𝐢𝐤𝐚 𝐢𝐳 𝐝𝐫𝐮ž𝐛𝐞 – 𝐝𝐚𝐯č𝐧𝐢\, 𝐩𝐫𝐚𝐯𝐧𝐢 𝐢𝐧 𝐩𝐫𝐚𝐤𝐭𝐢č𝐧𝐢 𝐯𝐢𝐝𝐢𝐤𝐢 – dr. Nina Orehek Ručigaj (Unija ETL Consulting d.o.o.) \n🔷 𝐏𝐫𝐚𝐯𝐧𝐢 𝐢𝐧 𝐭𝐞𝐡𝐧𝐢č𝐧𝐢 𝐯𝐢𝐝𝐢𝐤 𝐮𝐩𝐨𝐫𝐚𝐛𝐞 »𝐑𝐨𝐛𝐨𝐭𝐤𝐚 𝐅𝐔𝐑𝐒« – 𝐩𝐫𝐚𝐤𝐭𝐢č𝐧𝐨𝐬𝐭 𝐯𝐬. 𝐩𝐫𝐚𝐯𝐧𝐚 𝐯𝐚𝐫𝐧𝐨𝐬𝐭 – mag. Franc Derganc (Taxin d.o.o.) \n🔷 𝐍𝐨𝐯𝐞𝐣š𝐚 𝐬𝐨𝐝𝐧𝐚 𝐩𝐫𝐚𝐤𝐬𝐚 𝐯 𝐝𝐚𝐯č𝐧𝐢𝐡 𝐳𝐚𝐝𝐞𝐯𝐚𝐡 – mag. Barbara Žemva Privšek (Odvetniška pisarna Kek & Žemva Privšek d.o.o.) \n  \n🔷 𝐃𝐞𝐥𝐨𝐯𝐧𝐨-𝐩𝐫𝐚𝐯𝐧𝐢\, 𝐬𝐨𝐜𝐢𝐚𝐥𝐧𝐨 𝐯𝐚𝐫𝐬𝐭𝐯𝐞𝐧𝐢 𝐢𝐧 𝐝𝐚𝐯č𝐧𝐢 𝐯𝐢𝐝𝐢𝐤 𝐝𝐞𝐥𝐚 𝐧𝐚 𝐝𝐚𝐥𝐣𝐚𝐯𝐨 – mag. Brigita Žunič (Zavarovalnica Triglav d.d.) \n🔷 𝐃𝐃𝐕 𝐢𝐧 𝐭𝐫𝐚𝐧𝐬𝐟𝐞𝐫𝐧𝐞 𝐜𝐞𝐧𝐞 – Mojca Bartol Lesar (PwC Svetovanje\, d.o.o.) \n🔷 𝐑𝐚č𝐮𝐧𝐨𝐯𝐨𝐝𝐬𝐤𝐢 𝐯𝐢𝐝𝐢𝐤 𝐩𝐨𝐬𝐥𝐨𝐯𝐧𝐢𝐡 𝐤𝐨𝐦𝐛𝐢𝐧𝐚𝐜𝐢𝐣 – Silva Koritnik Rakela (Izobraževalna hiša Cilj d.o.o.) \n🔷 𝐍𝐚𝐣𝐩𝐨𝐠𝐨𝐬𝐭𝐞𝐣š𝐞 𝐮𝐠𝐨𝐭𝐨𝐯𝐢𝐭𝐯𝐞 𝐧𝐚𝐩𝐚𝐤 𝐩𝐫𝐢 𝐢𝐳𝐯𝐚𝐣𝐚𝐧𝐣𝐮 𝐧𝐚𝐝𝐳𝐨𝐫𝐚 𝐃𝐃𝐏𝐎 𝐢𝐧 𝐃𝐃𝐃 – Damjana Slapar Burkat (Finančna uprava RS) \n🔷 𝑺𝒑𝒓𝒆𝒎𝒍𝒋𝒂𝒋𝒐č𝒆 𝒂𝒌𝒕𝒊𝒗𝒏𝒐𝒔𝒕𝒊 𝒛𝒂 𝒖𝒅𝒆𝒍𝒆ž𝒆𝒏𝒄𝒆 \n🔷 𝑽𝒆č𝒆𝒓𝒏𝒊 𝒑𝒓𝒐𝒈𝒓𝒂𝒎 𝒐𝒃 𝒌𝒖𝒍𝒊𝒏𝒂𝒓𝒊č𝒏𝒊𝒉 𝒅𝒐𝒃𝒓𝒐𝒕𝒂𝒉 𝒊𝒏 𝒏𝒐𝒔𝒕𝒂𝒍𝒈𝒊č𝒏𝒊𝒉 𝒑𝒍𝒆𝒔𝒏𝒊𝒉 𝒓𝒊𝒕𝒎𝒊𝒉 \n🤝 𝐃𝐨𝐠𝐨𝐝𝐞𝐤 𝐣𝐞 𝐧𝐚𝐦𝐞𝐧𝐣𝐞𝐧: Davčnim svetovalcem\, računovodjem\, finančnikom\, pravnikom in vsem\, ki delujejo na področju davkov\, računovodstva in financ. \n⏳ Število mest je omejeno. Ugodnejše kotizacije do 15. 4. 2026 \n  \n👉 𝐕𝐞č 𝐢𝐧𝐟𝐨𝐫𝐦𝐚𝐜𝐢𝐣 𝐢𝐧 𝐩𝐫𝐢𝐣𝐚𝐯𝐚: https://zdss.si/dan-zdss-2026/ \n  \nDatum dogodka – Začetek:* 21. 5. 2026\nDatum dogodka – Konec:* 22. 5. 2026\nČas dogodka – Začetek (podaj uro):* 13.30\nČas dogodka – Konec (podaj uro):* 15.00\nČe je ponavljajoči se dogodek: \n  \nPrizorišče dogodka:* Terme Dobrna – dvorana Zdraviliškega doma\nNaslov prizorišča (Ulica in hišna številka):* Dobrna 50\nPoštna številka\, mesto oz. kraj Prizorišča:* 3204 Dobrna\nObčina:* Dobrna\nDržava Prizorišča:*\nTelefon Prizorišča:\nSpletna stran Prizorišča: \n  \nOrganizator dogodka:* 03 78 08 110\nTelefon – Organizator: 01 82 80 170\nSpletna stran – Organizator: https://zdss.si/dan-zdss-2026/\nEmail – Organizator:* info@davki.org \nSpletna stran – Dogodka: https://zdss.si/dan-zdss-2026\nStroški Dogodka:* od 95 € dalje \n  \n21.5.2026 Dan ZDSS 2026 Poglobljeno\, aktualno\, povezovalno
URL:https://www.napovednikdogodkov.si/dogodek/dan-zdss-2026-poglobljeno-aktualno-povezovalno/
LOCATION:Terme Dobrna – dvorana Zdraviliškega doma\, Dobrna 50\, Dobrna\, 3204\, Slovenia
CATEGORIES:Poslovni dogodki in Kariera
ATTACH;FMTTYPE=image/jpeg:https://www.napovednikdogodkov.si/wp-content/uploads/2026/04/21.5.2026-Dan-ZDSS-2026-Poglobljeno-aktualno-povezovalno.jpg
END:VEVENT
END:VCALENDAR