BEGIN:VCALENDAR
VERSION:2.0
PRODID:-//Napovednik dogodkov - dogodki, prireditve - ECPv6.15.13.1//NONSGML v1.0//EN
CALSCALE:GREGORIAN
METHOD:PUBLISH
X-WR-CALNAME:Napovednik dogodkov - dogodki, prireditve
X-ORIGINAL-URL:https://www.napovednikdogodkov.si
X-WR-CALDESC:Dogodki za Napovednik dogodkov - dogodki, prireditve
REFRESH-INTERVAL;VALUE=DURATION:PT1H
X-Robots-Tag:noindex
X-PUBLISHED-TTL:PT1H
BEGIN:VTIMEZONE
TZID:Europe/Ljubljana
BEGIN:DAYLIGHT
TZOFFSETFROM:+0100
TZOFFSETTO:+0200
TZNAME:CEST
DTSTART:20250330T010000
END:DAYLIGHT
BEGIN:STANDARD
TZOFFSETFROM:+0200
TZOFFSETTO:+0100
TZNAME:CET
DTSTART:20251026T010000
END:STANDARD
BEGIN:DAYLIGHT
TZOFFSETFROM:+0100
TZOFFSETTO:+0200
TZNAME:CEST
DTSTART:20260329T010000
END:DAYLIGHT
BEGIN:STANDARD
TZOFFSETFROM:+0200
TZOFFSETTO:+0100
TZNAME:CET
DTSTART:20261025T010000
END:STANDARD
BEGIN:DAYLIGHT
TZOFFSETFROM:+0100
TZOFFSETTO:+0200
TZNAME:CEST
DTSTART:20270328T010000
END:DAYLIGHT
BEGIN:STANDARD
TZOFFSETFROM:+0200
TZOFFSETTO:+0100
TZNAME:CET
DTSTART:20271031T010000
END:STANDARD
END:VTIMEZONE
BEGIN:VEVENT
DTSTART;TZID=Europe/Ljubljana:20260304T170000
DTEND;TZID=Europe/Ljubljana:20260304T183000
DTSTAMP:20260419T173135
CREATED:20260216T162946Z
LAST-MODIFIED:20260216T162946Z
UID:10002817-1772643600-1772649000@www.napovednikdogodkov.si
SUMMARY:Ali je karierna pot kot čarovnija?
DESCRIPTION:Luka Magic – od vizije do realnosti Ferry predstavi osebno zgodbo o odraščanju\, izobraževanju in iskanju poklica v ZDA. Preko čarovniških trikov in vaj udeleženci spoznavajo\, da tisto\, kar se na prvi pogled zdi kot čarovnija\, v resnici temelji na trudu\, predanosti in vztrajnosti. Delavnica na zanimiv in interaktiven način spodbuja k razmišljanju o sebi\, svojih ciljih in poti do njihovega uresničenja. Udeleženci raziskujejo svoje želje\, talente in sanje ter razmišljajo\, kako jih lahko uresničijo s postavljanjem realnih ciljev\, odločnostjo in disciplino. Zabavna izkušnja se poveže s pomembnimi življenjskimi nauki in vrednotami\, ki so ključne tako za osebni razvoj kot za prihodnjo karierno pot. V času hitrega tempa\, digitalnih motenj in naraščajočih pritiskov glede karierne poti se pogosto sprašujemo\, kako si pomagati\, da najdemo svojo pot. Ključ ni le v informacijah o poklicih\, temveč v vrednotah\, navadah in disciplini\, ki omogočajo\, da razvijemo vztrajnost in notranjo motivacijo. Vsebina delavnice: * osebna zgodba predavatelja o odraščanju\, učenju in iskanju poklica\, * praktična vaja sproščanja (kratka vizualizacija)\, * spodbujanje vrednot in veščin\, ki pomagajo pri osebnostni rasti\, * pogovor o tem\, kako lahko zdrave navade in vrednote podpirajo karierno pot\, * ozaveščanje o vplivu spanja\, telefonov in navad na uspeh v življenju. Dr. Ferry Stepančič\, Karierni Plac – Karierni center za mlade+\, Cene Štupar-CILJ Je pedagog\, raziskovalec in dolgoletni izvajalec izobraževalnih programov za otroke\, mlade\, starše in učitelje. Doktoriral je na The George Washington University v ZDA\, kjer je raziskoval dejavnike pri preprečevanju medvrstniškega nasilja v šolah. Razvija projekte na področjih socialno-čustvenega učenja\, varne in spodbudne šolske klime ter podpore staršem pri vzgoji in spremljanju otrokovega razvoja. V Sloveniji in tujini je izvajal številna predavanja in delavnice\, usmerjene v krepitev kompetenc staršev in učiteljev ter integracijo ranljivih skupin v družbo. Trenutno skrbi za razvoj novih pristopov na področju karierne orientacije v projektu Karierni Plac – Karierni center za mlade+\, pri Cene Štupar-CILJ. Delavnica je brezplačna in bo potekala v prostorih Aia – Mladinskega centra Mengeš. \n  \nPrijava je obvezna na: https://forms.cloud.microsoft/r/FnD2ZFz4hR \n  \nDatum dogodka – Začetek:* 4.3.\nDatum dogodka – Konec:* 4.3.\nČas dogodka – Začetek (podaj uro):* 17.00\nČas dogodka – Konec (podaj uro):* 18.30\nČe je ponavljajoči se dogodek: \n  \nPrizorišče dogodka:* Društvo AIA – Mladinski center Mengeš\nNaslov prizorišča (Ulica in hišna številka):* Slovenska cesta 28\nPoštna številka\, mesto oz. kraj Prizorišča:* 1234 Mengeš\nObčina:* Mengeš\nDržava Prizorišča:*\nTelefon Prizorišča:\nSpletna stran Prizorišča: \n  \nOrganizator dogodka:* Društvo AIA – Mladinski center Mengeš\nTelefon – Organizator: 070 732 070\nSpletna stran – Organizator: https://aia-mcmenges.si/\nEmail – Organizator:* drustvo.aia@gmail.com \nSpletna stran – Dogodka: https://fb.me/e/6EaerjT7R\nStroški Dogodka:* Prost vstop
URL:https://www.napovednikdogodkov.si/dogodek/ali-je-karierna-pot-kot-carovnija/
LOCATION:Društvo AIA – Mladinski center Mengeš\, Slovenska cesta 28\, Mengeš\, 1234\, Slovenia
CATEGORIES:Poslovni dogodki in Kariera
ATTACH;FMTTYPE=image/jpeg:https://www.napovednikdogodkov.si/wp-content/uploads/2026/02/4.3.2026-Ali-je-karierna-pot-kot-carovnija-NAPOVEDNIK-DOGODKI.jpg
ORGANIZER;CN="Dru%C5%A1tvo AIA - Mladinski center Menge%C5%A1":MAILTO:drustvo.aia@gmail.com
END:VEVENT
BEGIN:VEVENT
DTSTART;TZID=Europe/Ljubljana:20260318T180000
DTEND;TZID=Europe/Ljubljana:20260318T200000
DTSTAMP:20260419T173135
CREATED:20260312T081202Z
LAST-MODIFIED:20260312T081614Z
UID:10002882-1773856800-1773864000@www.napovednikdogodkov.si
SUMMARY:LinkedIn delavnica
DESCRIPTION:Se ti LinkedIn zdi kot platforma samo za “visoko izobražene”\, direktorje ali ljudi z desetletji izkušenj? Potem je ta delavnica zate. Matic Žmuc ti bo na razumljiv in praktičen način pokazal\, da je LinkedIn lahko močno orodje za vsakogar – tudi če si še študent/ka\, na začetku kariere ali šele raziskuješ\, kaj bi rad/a počel/a. Delavnica je primerna za vse med 18. in 35. letom – ne glede na to\, ali LinkedIn že uporabljaš ali pa si profil šele nameravaš ustvariti. Poudarek bo na konkretnih korakih\, praktičnih primerih in uporabnih trikih\, ki jih lahko začneš uporabljati takoj. Če želiš\, da te priložnosti lažje najdejo – namesto da jih vedno loviš sam/a – je to delavnica\, ki ti lahko odpre nova vrata.💼 Kaj lahko pričakujete? ✅ konkretne napotke za boljši in bolj jasen LinkedIn profil ✅kako ustvariti profil\, ki pritegne pozornost podjetij in organizacij ✅kako jasno predstaviti svoje izkušnje (tudi če jih še nimaš veliko) ✅kako poiskati priložnosti za izobraževanja\, prakso ali zaposlitev ✅kako se povezovati s pravimi ljudmi in graditi svojo mrežo ✅kako LinkedIn uporabljati redno in smiselno – brez občutka\, da »moraš nekaj objavljati« \n  \n📅 Kdaj: 18. 3. 2026 ob 18.00 \n📍 Kje: Zavod Ypsilon Prostori Zavoda Ypsilon\, ABC HUB Latinski trg 6\, Ljubljana stavba Emporium BTC \n📝 Obvezna prijava: https://docs.google.com/forms/d/e/1FAIpQLSdQ2ZWnn51YOy9z-r1CsoHF8nICCy8gcL3UCq1iQhF2ggSgTA/viewform?usp=header  \n  \n💰 Cena: Brezplačno za člane Zavoda Ypsilon / Cena za nečlane je 7 €. Veselimo se srečanja z vami in skupnega raziskovanja novih idej ter izkušenj. ✨ \n  \nDatum dogodka – Začetek:* 18.03.2026\nDatum dogodka – Konec:* 18.03.2026\nČas dogodka – Začetek (podaj uro):* 18:00\nČas dogodka – Konec (podaj uro):* 20:00\nČe je ponavljajoči se dogodek: \n  \nPrizorišče dogodka:* Zavod Ypsilon\nNaslov prizorišča (Ulica in hišna številka):* Latinski trg 6\nPoštna številka\, mesto oz. kraj Prizorišča:* 1000 Ljubljana\nObčina:* Ljubljana\nDržava Prizorišča:*\nTelefon Prizorišča:\nSpletna stran Prizorišča: https://docs.google.com/forms/d/e/1FAIpQLSdQ2ZWnn51YOy9z-r1CsoHF8nICCy8gcL3UCq1iQhF2ggSgTA/viewform?usp=header \n  \nOrganizator dogodka:* Zavod Ypsilon\nTelefon – Organizator:\nSpletna stran – Organizator: https://ypsilon.si/blog/linkedin-delavnica/\nEmail – Organizator:* info@ypsilon.si \nStroški Dogodka:* brezplačno za člane Zavoda Ypsilon\, za nečlane je cena 7€
URL:https://www.napovednikdogodkov.si/dogodek/linkedin-delavnica/
LOCATION:Zavod Ypsilon\, Latinski trg 6\, Ljubljana\, 1000\, Slovenia
CATEGORIES:Izobraževanja,Poslovni dogodki in Kariera
ATTACH;FMTTYPE=image/jpeg:https://www.napovednikdogodkov.si/wp-content/uploads/2026/03/18.3.2026-LinkedIn-delavnica-NAPOVEDNIK-DOGODKI.jpg
ORGANIZER;CN="Zavod Ypsilon":MAILTO:info@ypsilon.si
END:VEVENT
END:VCALENDAR