BEGIN:VCALENDAR
VERSION:2.0
PRODID:-//Napovednik dogodkov - dogodki, prireditve - ECPv6.15.13.1//NONSGML v1.0//EN
CALSCALE:GREGORIAN
METHOD:PUBLISH
X-ORIGINAL-URL:https://www.napovednikdogodkov.si
X-WR-CALDESC:Dogodki za Napovednik dogodkov - dogodki, prireditve
REFRESH-INTERVAL;VALUE=DURATION:PT1H
X-Robots-Tag:noindex
X-PUBLISHED-TTL:PT1H
BEGIN:VTIMEZONE
TZID:Europe/Ljubljana
BEGIN:DAYLIGHT
TZOFFSETFROM:+0100
TZOFFSETTO:+0200
TZNAME:CEST
DTSTART:20250330T010000
END:DAYLIGHT
BEGIN:STANDARD
TZOFFSETFROM:+0200
TZOFFSETTO:+0100
TZNAME:CET
DTSTART:20251026T010000
END:STANDARD
BEGIN:DAYLIGHT
TZOFFSETFROM:+0100
TZOFFSETTO:+0200
TZNAME:CEST
DTSTART:20260329T010000
END:DAYLIGHT
BEGIN:STANDARD
TZOFFSETFROM:+0200
TZOFFSETTO:+0100
TZNAME:CET
DTSTART:20261025T010000
END:STANDARD
BEGIN:DAYLIGHT
TZOFFSETFROM:+0100
TZOFFSETTO:+0200
TZNAME:CEST
DTSTART:20270328T010000
END:DAYLIGHT
BEGIN:STANDARD
TZOFFSETFROM:+0200
TZOFFSETTO:+0100
TZNAME:CET
DTSTART:20271031T010000
END:STANDARD
END:VTIMEZONE
BEGIN:VEVENT
DTSTART;VALUE=DATE:20260203
DTEND;VALUE=DATE:20260204
DTSTAMP:20260419T190929
CREATED:20251113T080035Z
LAST-MODIFIED:20251203T081358Z
UID:10002639-1770105600-1770138000@www.napovednikdogodkov.si
SUMMARY:[Intenzivna spletna delavnica] Branje in analiza bilanc za nefinančnike
DESCRIPTION:Intenzivna večdnevna delavnica za vse\, ki pri svojem delu potrebujete razumevanje računovodskih izkazov. Če delujete v poslovnem svetu in želite sprejemati premišljene poslovne odločitve ter se učinkovito sporazumevati z računovodskimi strokovnjaki\, je ta delavnica prava izbira za vas. 𝗞𝗢𝗠𝗨 𝗝𝗢 𝗣𝗥𝗜𝗣𝗢𝗥𝗢Č𝗔𝗠𝗢? Priporočamo jo predvsem direktorjem\, pravnikom v podjetjih\, odvetnikom\, stečajnim upraviteljem\, sodnikom\, notarjem\, davčnim svetovalcem in drugim. Dobrodošli pa tudi računovodje\, ki svoje znanje predajate sodelavcem in želite vsebino sistematično ponoviti ali nadgraditi. 𝟱 𝗞𝗢𝗥𝗜𝗦𝗧𝗜 𝗭𝗔 𝗨𝗗𝗘𝗟𝗘Ž𝗘𝗡𝗖𝗘: 1️⃣ Spoznali boste definicije in pomen temeljnih računovodskih kategorij. 2️⃣ Naučili se boste sestaviti enostavne računovodske izkaze. 3️⃣ Razumeli boste\, kdaj računovodski standardi zahtevajo in kdaj dopuščajo vrednotenje po pošteni vrednosti. 4️⃣ Razumeli boste razliko med samostojnimi in konsolidiranimi letnimi poročili. 5️⃣ Dostop do e-gradiv in podporo predavateljice za vaša vprašanja boste imeli še 365 dni po zaključku. 𝗞𝗔𝗝 𝗩𝗞𝗟𝗝𝗨Č𝗨𝗝𝗘 𝗗𝗘𝗟𝗔𝗩𝗡𝗜𝗖𝗔: ✅ Uvodno spletno srečanje z razlago poteka in uporabe e-učilnice. ✅ E-gradiva za samostojno učenje in sledenje napredku. ✅ Delovni zvezki in interaktivne vaje z rešitvami. ✅ 2x spletni srečanji v živo z dodatnimi primeri in poglobljenimi razlagami. ✅ 365 dni dostop do e-učilnice z možnostjo postavljanja vprašanj. 𝗧𝗘𝗥𝗠𝗜𝗡𝗜 𝗜𝗡 𝐏𝐎𝐓𝐄𝐊: Delavnica poteka v kombinirani obliki: vključuje samostojno delo z e-gradivi in tri spletna srečanja v živo. \n  \n📅 1. Uvodno srečanje: 27.1.2026 \, 9:00–9:30 \n📅 2. srečanje: 3.2.2026 \, 9:00–12:15 \n📅 3. srečanje: 5.2.2026 \, 9:00–12:15 𝗭 𝗩𝗔𝗠𝗜 𝗕𝗢: Silva Koritnik Rakela\, uveljavljena predavateljica in avtorica učnih gradiv iz Izobraževalne hiše Cilj. Ima več kot tri desetletja izkušenj s področja revizije\, ocenjevanja vrednosti podjetij in računovodstva. Delavnico organiziramo v sodelovanju s Tax-Fin-Lex d.o.o. 👉 Prijavite se čim prej\, saj je število mest zaradi narave dela omejeno. \n  \nhttps://www.ihc.si/seznamdogodkov/09/12/2025/branje-in-analiza-bilanc-za-nefinancnike \n  \n🔗 PRIJAVA IN VEČ INFORMACIJ: https://bit.ly/branje-in-analiza-bilanc-dec2025 \n  \nČas dogodka – Začetek (podaj uro):* 9:00\nČas dogodka – Konec (podaj uro):* 12:15\nČe je ponavljajoči se dogodek:\nPrizorišče dogodka oz. Spletna stran dogodka – Povezava URL oz. Link:* https://www.ihc.si/seznamdogodkov/09/12/2025/branje-in-analiza-bilanc-za-nefinancnike\nOrganizator dogodka:* Izobraževalna hiša Cilj d.o.o.\nTelefon – Organizator: 041 441 280\nSpletna stran – Organizator: www.ihc.si\nEmail – Organizator:* info@ihc.si \nStroški Dogodka:* 490 € + ddv
URL:https://www.napovednikdogodkov.si/dogodek/intenzivna-spletna-delavnica-branje-in-analiza-bilanc-za-nefinancnike/2026-02-03/
LOCATION:Splet – online
CATEGORIES:Izobraževanja,Poslovni dogodki in Kariera
ATTACH;FMTTYPE=image/jpeg:https://www.napovednikdogodkov.si/wp-content/uploads/2025/11/9.12.2025-Intenzivna-spletna-delavnica-Branje-in-analiza-bilanc-za-nefinancnike.jpg
ORGANIZER;CN="Izobra%C5%BEevalna hi%C5%A1a Cilj d.o.o.":MAILTO:info@ihc.si
END:VEVENT
BEGIN:VEVENT
DTSTART;VALUE=DATE:20260205
DTEND;VALUE=DATE:20260206
DTSTAMP:20260419T190929
CREATED:20251113T080035Z
LAST-MODIFIED:20251203T081358Z
UID:10002640-1770278400-1770310800@www.napovednikdogodkov.si
SUMMARY:[Intenzivna spletna delavnica] Branje in analiza bilanc za nefinančnike
DESCRIPTION:Intenzivna večdnevna delavnica za vse\, ki pri svojem delu potrebujete razumevanje računovodskih izkazov. Če delujete v poslovnem svetu in želite sprejemati premišljene poslovne odločitve ter se učinkovito sporazumevati z računovodskimi strokovnjaki\, je ta delavnica prava izbira za vas. 𝗞𝗢𝗠𝗨 𝗝𝗢 𝗣𝗥𝗜𝗣𝗢𝗥𝗢Č𝗔𝗠𝗢? Priporočamo jo predvsem direktorjem\, pravnikom v podjetjih\, odvetnikom\, stečajnim upraviteljem\, sodnikom\, notarjem\, davčnim svetovalcem in drugim. Dobrodošli pa tudi računovodje\, ki svoje znanje predajate sodelavcem in želite vsebino sistematično ponoviti ali nadgraditi. 𝟱 𝗞𝗢𝗥𝗜𝗦𝗧𝗜 𝗭𝗔 𝗨𝗗𝗘𝗟𝗘Ž𝗘𝗡𝗖𝗘: 1️⃣ Spoznali boste definicije in pomen temeljnih računovodskih kategorij. 2️⃣ Naučili se boste sestaviti enostavne računovodske izkaze. 3️⃣ Razumeli boste\, kdaj računovodski standardi zahtevajo in kdaj dopuščajo vrednotenje po pošteni vrednosti. 4️⃣ Razumeli boste razliko med samostojnimi in konsolidiranimi letnimi poročili. 5️⃣ Dostop do e-gradiv in podporo predavateljice za vaša vprašanja boste imeli še 365 dni po zaključku. 𝗞𝗔𝗝 𝗩𝗞𝗟𝗝𝗨Č𝗨𝗝𝗘 𝗗𝗘𝗟𝗔𝗩𝗡𝗜𝗖𝗔: ✅ Uvodno spletno srečanje z razlago poteka in uporabe e-učilnice. ✅ E-gradiva za samostojno učenje in sledenje napredku. ✅ Delovni zvezki in interaktivne vaje z rešitvami. ✅ 2x spletni srečanji v živo z dodatnimi primeri in poglobljenimi razlagami. ✅ 365 dni dostop do e-učilnice z možnostjo postavljanja vprašanj. 𝗧𝗘𝗥𝗠𝗜𝗡𝗜 𝗜𝗡 𝐏𝐎𝐓𝐄𝐊: Delavnica poteka v kombinirani obliki: vključuje samostojno delo z e-gradivi in tri spletna srečanja v živo. \n  \n📅 1. Uvodno srečanje: 27.1.2026 \, 9:00–9:30 \n📅 2. srečanje: 3.2.2026 \, 9:00–12:15 \n📅 3. srečanje: 5.2.2026 \, 9:00–12:15 𝗭 𝗩𝗔𝗠𝗜 𝗕𝗢: Silva Koritnik Rakela\, uveljavljena predavateljica in avtorica učnih gradiv iz Izobraževalne hiše Cilj. Ima več kot tri desetletja izkušenj s področja revizije\, ocenjevanja vrednosti podjetij in računovodstva. Delavnico organiziramo v sodelovanju s Tax-Fin-Lex d.o.o. 👉 Prijavite se čim prej\, saj je število mest zaradi narave dela omejeno. \n  \nhttps://www.ihc.si/seznamdogodkov/09/12/2025/branje-in-analiza-bilanc-za-nefinancnike \n  \n🔗 PRIJAVA IN VEČ INFORMACIJ: https://bit.ly/branje-in-analiza-bilanc-dec2025 \n  \nČas dogodka – Začetek (podaj uro):* 9:00\nČas dogodka – Konec (podaj uro):* 12:15\nČe je ponavljajoči se dogodek:\nPrizorišče dogodka oz. Spletna stran dogodka – Povezava URL oz. Link:* https://www.ihc.si/seznamdogodkov/09/12/2025/branje-in-analiza-bilanc-za-nefinancnike\nOrganizator dogodka:* Izobraževalna hiša Cilj d.o.o.\nTelefon – Organizator: 041 441 280\nSpletna stran – Organizator: www.ihc.si\nEmail – Organizator:* info@ihc.si \nStroški Dogodka:* 490 € + ddv
URL:https://www.napovednikdogodkov.si/dogodek/intenzivna-spletna-delavnica-branje-in-analiza-bilanc-za-nefinancnike/2026-02-05/
LOCATION:Splet – online
CATEGORIES:Izobraževanja,Poslovni dogodki in Kariera
ATTACH;FMTTYPE=image/jpeg:https://www.napovednikdogodkov.si/wp-content/uploads/2025/11/9.12.2025-Intenzivna-spletna-delavnica-Branje-in-analiza-bilanc-za-nefinancnike.jpg
ORGANIZER;CN="Izobra%C5%BEevalna hi%C5%A1a Cilj d.o.o.":MAILTO:info@ihc.si
END:VEVENT
BEGIN:VEVENT
DTSTART;TZID=Europe/Ljubljana:20260224T180000
DTEND;TZID=Europe/Ljubljana:20260224T193000
DTSTAMP:20260419T190929
CREATED:20260213T210531Z
LAST-MODIFIED:20260213T210531Z
UID:10002809-1771956000-1771961400@www.napovednikdogodkov.si
SUMMARY:Kako ustvariti svoj biznis?
DESCRIPTION:Kako ustvariti svoj biznis? \nOkrogla miza za mlade podjetnike Si že kdaj pomislil_a: “Kaj pa če bi tudi jaz začel lastno podjetje?” Ampak ti ostanejo vprašanja … kje začeti? kako najti prve stranke? kaj če naredim napako? 👉 Ta dogodek ni klasično predavanje. Je iskren\, direkten pogovor z mladi podjetniki\, ki so to pot že prehodili in se ne bojijo deliti tistega\, česar ne najdeš na Googlu. Kaj te čaka? 🔥 realne zgodbe in izzivi resničnih podjetnikov 🧠 praktični nasveti (od ideje do prvih strank) ❓ odgovori na vprašanja\, ki te dejansko zanimajo 💡 motivacija in konkretna orodja za tvoj prvi korak Teme\, ki jih bomo odpirali: – kako začeti svojo podjetniško pot – kdaj odpreti s.p.\, podjetje\, agencijo ali društvo – kako prepoznati dobro idejo – kako uskladiti študij/delo s podjetniško potjo – kako zgraditi mrežo in najti prve stranke S tabo se bodo pogovarjali: ✨ Žiga Vavpotič – mentor\, podjetnik\, so-ustanovitelj Zavoda Ypsilon in nekdanji predsednik upravnega odbora Outfit7 ✨ Laura Mlakar – so-ustanoviteljica agencije Createable ✨ Rok Križan – podjetnik\, strokovnjak za IT in marketing\, ustanovitelj podjetja Odkritje in Zavoda Raziskovalec \n📅 24. februar 2026\, ob 18.00 📍 ABC Hub (Zavod Ypsilon)\, Ljubljana 🎟️ Brezplačno – prijava je obvezna in mesta so omejena! 👉 Prijavi se zdaj: https://forms.gle/5bghj3QstaXELjdt9 Prinesi svoja vprašanja\, energijo in ideje – to je večer\, kjer končno dobiš odgovore\, ki ti pomagajo narediti prvi pravi korak. \n  \nDatum dogodka – Začetek:* 24.02.2026\nDatum dogodka – Konec:* 24.02.2026\nČas dogodka – Začetek (podaj uro):* 18.00\nČas dogodka – Konec (podaj uro):* 19.30\nČe je ponavljajoči se dogodek: \n  \nPrizorišče dogodka:* ABC hub\nNaslov prizorišča (Ulica in hišna številka):* Latinski trg 6\nPoštna številka\, mesto oz. kraj Prizorišča:* 1000\nObčina:* Ljubljana\nDržava Prizorišča:*\nTelefon Prizorišča:\nSpletna stran Prizorišča: \n  \nOrganizator dogodka:* Zavod Ypsilon\nTelefon – Organizator:\nSpletna stran – Organizator:\nEmail – Organizator:* info@ypsilon.si \nSpletna stran – Dogodka: https://ypsilon.si/blog/okrogla-miza-kako-ustvariti-svoj-biznis/\nStroški Dogodka:* Brezplačno
URL:https://www.napovednikdogodkov.si/dogodek/kako-ustvariti-svoj-biznis/
LOCATION:ABC hub\, Latinski trg 6\, Ljubljana\, 1000\, Slovenia
CATEGORIES:Izobraževanja,Poslovni dogodki in Kariera
ATTACH;FMTTYPE=image/jpeg:https://www.napovednikdogodkov.si/wp-content/uploads/2026/02/24.2.2026-Kako-ustvariti-svoj-biznis-napovednik-dogodki.jpg
ORGANIZER;CN="Zavod Ypsilon":MAILTO:info@ypsilon.si
END:VEVENT
END:VCALENDAR