BEGIN:VCALENDAR
VERSION:2.0
PRODID:-//Napovednik dogodkov - dogodki, prireditve - ECPv6.15.13.1//NONSGML v1.0//EN
CALSCALE:GREGORIAN
METHOD:PUBLISH
X-ORIGINAL-URL:https://www.napovednikdogodkov.si
X-WR-CALDESC:Dogodki za Napovednik dogodkov - dogodki, prireditve
REFRESH-INTERVAL;VALUE=DURATION:PT1H
X-Robots-Tag:noindex
X-PUBLISHED-TTL:PT1H
BEGIN:VTIMEZONE
TZID:Europe/Ljubljana
BEGIN:DAYLIGHT
TZOFFSETFROM:+0100
TZOFFSETTO:+0200
TZNAME:CEST
DTSTART:20250330T010000
END:DAYLIGHT
BEGIN:STANDARD
TZOFFSETFROM:+0200
TZOFFSETTO:+0100
TZNAME:CET
DTSTART:20251026T010000
END:STANDARD
BEGIN:DAYLIGHT
TZOFFSETFROM:+0100
TZOFFSETTO:+0200
TZNAME:CEST
DTSTART:20260329T010000
END:DAYLIGHT
BEGIN:STANDARD
TZOFFSETFROM:+0200
TZOFFSETTO:+0100
TZNAME:CET
DTSTART:20261025T010000
END:STANDARD
BEGIN:DAYLIGHT
TZOFFSETFROM:+0100
TZOFFSETTO:+0200
TZNAME:CEST
DTSTART:20270328T010000
END:DAYLIGHT
BEGIN:STANDARD
TZOFFSETFROM:+0200
TZOFFSETTO:+0100
TZNAME:CET
DTSTART:20271031T010000
END:STANDARD
END:VTIMEZONE
BEGIN:VEVENT
DTSTART;VALUE=DATE:20260127
DTEND;VALUE=DATE:20260128
DTSTAMP:20260419T204412
CREATED:20251113T080035Z
LAST-MODIFIED:20251203T081358Z
UID:10002638-1769472000-1769558399@www.napovednikdogodkov.si
SUMMARY:[Intenzivna spletna delavnica] Branje in analiza bilanc za nefinančnike
DESCRIPTION:Intenzivna večdnevna delavnica za vse\, ki pri svojem delu potrebujete razumevanje računovodskih izkazov. Če delujete v poslovnem svetu in želite sprejemati premišljene poslovne odločitve ter se učinkovito sporazumevati z računovodskimi strokovnjaki\, je ta delavnica prava izbira za vas. 𝗞𝗢𝗠𝗨 𝗝𝗢 𝗣𝗥𝗜𝗣𝗢𝗥𝗢Č𝗔𝗠𝗢? Priporočamo jo predvsem direktorjem\, pravnikom v podjetjih\, odvetnikom\, stečajnim upraviteljem\, sodnikom\, notarjem\, davčnim svetovalcem in drugim. Dobrodošli pa tudi računovodje\, ki svoje znanje predajate sodelavcem in želite vsebino sistematično ponoviti ali nadgraditi. 𝟱 𝗞𝗢𝗥𝗜𝗦𝗧𝗜 𝗭𝗔 𝗨𝗗𝗘𝗟𝗘Ž𝗘𝗡𝗖𝗘: 1️⃣ Spoznali boste definicije in pomen temeljnih računovodskih kategorij. 2️⃣ Naučili se boste sestaviti enostavne računovodske izkaze. 3️⃣ Razumeli boste\, kdaj računovodski standardi zahtevajo in kdaj dopuščajo vrednotenje po pošteni vrednosti. 4️⃣ Razumeli boste razliko med samostojnimi in konsolidiranimi letnimi poročili. 5️⃣ Dostop do e-gradiv in podporo predavateljice za vaša vprašanja boste imeli še 365 dni po zaključku. 𝗞𝗔𝗝 𝗩𝗞𝗟𝗝𝗨Č𝗨𝗝𝗘 𝗗𝗘𝗟𝗔𝗩𝗡𝗜𝗖𝗔: ✅ Uvodno spletno srečanje z razlago poteka in uporabe e-učilnice. ✅ E-gradiva za samostojno učenje in sledenje napredku. ✅ Delovni zvezki in interaktivne vaje z rešitvami. ✅ 2x spletni srečanji v živo z dodatnimi primeri in poglobljenimi razlagami. ✅ 365 dni dostop do e-učilnice z možnostjo postavljanja vprašanj. 𝗧𝗘𝗥𝗠𝗜𝗡𝗜 𝗜𝗡 𝐏𝐎𝐓𝐄𝐊: Delavnica poteka v kombinirani obliki: vključuje samostojno delo z e-gradivi in tri spletna srečanja v živo. \n  \n📅 1. Uvodno srečanje: 27.1.2026 \, 9:00–9:30 \n📅 2. srečanje: 3.2.2026 \, 9:00–12:15 \n📅 3. srečanje: 5.2.2026 \, 9:00–12:15 𝗭 𝗩𝗔𝗠𝗜 𝗕𝗢: Silva Koritnik Rakela\, uveljavljena predavateljica in avtorica učnih gradiv iz Izobraževalne hiše Cilj. Ima več kot tri desetletja izkušenj s področja revizije\, ocenjevanja vrednosti podjetij in računovodstva. Delavnico organiziramo v sodelovanju s Tax-Fin-Lex d.o.o. 👉 Prijavite se čim prej\, saj je število mest zaradi narave dela omejeno. \n  \nhttps://www.ihc.si/seznamdogodkov/09/12/2025/branje-in-analiza-bilanc-za-nefinancnike \n  \n🔗 PRIJAVA IN VEČ INFORMACIJ: https://bit.ly/branje-in-analiza-bilanc-dec2025 \n  \nČas dogodka – Začetek (podaj uro):* 9:00\nČas dogodka – Konec (podaj uro):* 12:15\nČe je ponavljajoči se dogodek:\nPrizorišče dogodka oz. Spletna stran dogodka – Povezava URL oz. Link:* https://www.ihc.si/seznamdogodkov/09/12/2025/branje-in-analiza-bilanc-za-nefinancnike\nOrganizator dogodka:* Izobraževalna hiša Cilj d.o.o.\nTelefon – Organizator: 041 441 280\nSpletna stran – Organizator: www.ihc.si\nEmail – Organizator:* info@ihc.si \nStroški Dogodka:* 490 € + ddv
URL:https://www.napovednikdogodkov.si/dogodek/intenzivna-spletna-delavnica-branje-in-analiza-bilanc-za-nefinancnike/2026-01-27/
LOCATION:Splet – online
CATEGORIES:Izobraževanja,Poslovni dogodki in Kariera
ATTACH;FMTTYPE=image/jpeg:https://www.napovednikdogodkov.si/wp-content/uploads/2025/11/9.12.2025-Intenzivna-spletna-delavnica-Branje-in-analiza-bilanc-za-nefinancnike.jpg
ORGANIZER;CN="Izobra%C5%BEevalna hi%C5%A1a Cilj d.o.o.":MAILTO:info@ihc.si
END:VEVENT
END:VCALENDAR